BEGIN:VCALENDAR
VERSION:2.0
CALSCALE:GREGORIAN
METHOD:PUBLISH
PRODID://HEND//1380090
BEGIN:VEVENT
DTSTAMP:20260424T211525
VTIMEZONE:America/Los_Angeles
DTSTART:20251108T200000Z
DTEND:20251108T230000Z
UID:1380090
SUMMARY:4th Annual Harvesting Hope Resource Fair 
LOCATION:Collaboration Center, 8390 W. Windmill Lane , Las Vegas, NV, 89113
DESCRIPTION:4th Annual Harvesting Hope Resource Fair \n\n11/08/25 12:00 PM PST\n - 11/08/25 03:00 PM PST\Description:\nJoin the Collaboration Center on November 8th for Harvesting Hope, its 4th Annual Family Fall Festival & Community Resource Fair! This FREE community celebration highlights inclusion and disability awareness while bringing together families, service providers, and community members. Guests can enjoy a lively afternoon filled with a community resource fair, family fun activities, a petting zoo, delicious food, and great music. This annual event is a wonderful way to connect, learn about the many disability resources available in Southern Nevada, and celebrate together in a festive, welcoming atmosphere. For more information, visit https://collablv.org/. \Details:\nThis FREE community celebration highlights inclusion and disability awareness while bringing together families, service providers, and community members.\Location:\nCollaboration Center\n8390 W. Windmill Lane \nLas Vegas, NV 89113
X-ALT-DESC;FMTTYPE=text/html:4th Annual Harvesting Hope Resource Fair <br /><br />11/08/25 12:00 PM PST - 11/08/25 03:00 PM PST<br />Description:<br />Join the Collaboration Center on November 8th for Harvesting Hope, its 4th Annual Family Fall Festival &amp; Community Resource Fair! This FREE community celebration highlights inclusion and disability awareness while bringing together families, service providers, and community members. Guests can enjoy a lively afternoon filled with a community resource fair, family fun activities, a petting zoo, delicious food, and great music. This annual event is a wonderful way to connect, learn about the many disability resources available in Southern Nevada, and celebrate together in a festive, welcoming atmosphere. For more information, visit <a href="https://collablv.org/" rel="noreferrer noopener" target="_blank">https://collablv.org/</a>.&nbsp;<br />Details:<br />This FREE community celebration highlights inclusion and disability awareness while bringing together families, service providers, and community members.<br />Location:<br />Collaboration Center<br />8390 W. Windmill Lane <br />Las Vegas, NV 89113
PRIORITY:3
TRANSP:TRANSPARENT
BEGIN:VALARM
TRIGGER:-PT5M
ACTION:DISPLAY
DESCRIPTION:Reminder
END:VALARM
END:VEVENT
END:VCALENDAR
