BEGIN:VCALENDAR
VERSION:2.0
CALSCALE:GREGORIAN
METHOD:PUBLISH
PRODID://HEND//1390990
BEGIN:VEVENT
DTSTAMP:20260424T211616
VTIMEZONE:America/Los_Angeles
DTSTART:20251122T180000Z
DTEND:20251122T190000Z
UID:1390990
SUMMARY:Sell What You Know
LOCATION:Meeting ID 879 3341 6411 Passcode 566308, NV
DESCRIPTION:Sell What You Know\n\n11/22/25 10:00 AM PST\n - 11/22/25 11:00 AM PST\Description:\nSell What You Know — Free Live Training\n\n \n\nLearn How to Turn Your Knowledge Into a Scalable, Sellable Offer\n\n \n\nIt doesn’t matter whether you’re a doctor, lawyer, consultant, coach, service provider, entrepreneur, or working professional — if you have knowledge, you have a product.\n\nAnd in today’s economy, information and expertise are the most valuable assets you already possess.\n\n \n\nIn this free training, Bayina Nala — Official 10X Business Coach & Certified Master of Syucai — will show you how to turn what you already know into a repeatable, profitable offer you can sell again and again.\n\n \n\nIn this training, you will learn:\n\n \n\nðŸ”¥ Clarity:\n\nHow to get crystal-clear on what you can sell and who will buy it — even if you have multiple skills or don’t know where to start.\n\n \n\nðŸ”¥ Packaging Your Knowledge:\n\nThe simple structure for turning your expertise into a sellable, high-value offer that people understand instantly.\n\n \n\nðŸ”¥ How to Sell It:\n\nThe communication, messaging, and sales strategy that helps you attract clients without chasing them.\n\n \n\nðŸ”¥ Your Launch Plan:\n\nHow to launch your offer with support, with a team, and with a strategy — you will never launch alone.\n\n \n\nðŸ”¥ Energy & Momentum:\n\nHow to run your business without burning out, staying energized and focused while you grow.\n\n \n\nWhether you’re tired of trading hours for dollars, ready to shift from 1:1 work to a scalable model, or simply want to grow your income using your existing expertise — this event is for you.\n\n \n\nWho Should Attend\n\n \n\nâœ” Business owners\n\nâœ” Coaches & consultants\n\nâœ” High-level professionals (doctors, lawyers, real estate agents, etc.)\n\nâœ” Service providers\n\nâœ” Anyone who wants to monetize their knowledge and scale\n\n \n\nJoin us and discover the exact steps to package, position, sell, and launch your knowledge with confidence and clarity.\n\Details:\nCost:\n\nâœ” Free — No charge to attend this training.\n\n \n\nEvent Type:\n\nEducational / Business Training / Professional Development\n\n \n\nWho Should Attend:\n\nBusiness owners, coaches, consultants, professionals, service providers, and anyone who wants to monetize their knowledge.\n\n \n\nFormat:\n\nLive online webinar (via Zoom)\n\n \n\nWhat to Expect:\n\nA free 60–90 minute training teaching how to package your knowledge, create a sellable offer, and launch with support.\n\Location:\nMeeting ID 879 3341 6411 Passcode 566308\n\n, NV
X-ALT-DESC;FMTTYPE=text/html:Sell What You Know<br /><br />11/22/25 10:00 AM PST - 11/22/25 11:00 AM PST<br />Description:<br /><p><strong>Sell What You Know &mdash; Free Live Training</strong></p>

<p>&nbsp;</p>

<p><strong>Learn How to Turn Your Knowledge Into a Scalable, Sellable Offer</strong></p>

<p>&nbsp;</p>

<p>It doesn&rsquo;t matter whether you&rsquo;re a <strong>doctor, lawyer, consultant, coach, service provider, entrepreneur, or working professional</strong> &mdash; if you have <em>knowledge</em>, you have a product.</p>

<p>And in today&rsquo;s economy, <strong>information and expertise are the most valuable assets you already possess.</strong></p>

<p>&nbsp;</p>

<p>In this free training, Bayina Nala &mdash; <strong>Official 10X Business Coach &amp; Certified Master of Syucai</strong> &mdash; will show you how to turn what you already know into a repeatable, profitable offer you can sell again and again.</p>

<p>&nbsp;</p>

<p><strong>In this training, you will learn:</strong></p>

<p>&nbsp;</p>

<p>ðŸ”¥ <strong>Clarity:</strong></p>

<p>How to get crystal-clear on <em>what</em> you can sell and <em>who</em> will buy it &mdash; even if you have multiple skills or don&rsquo;t know where to start.</p>

<p>&nbsp;</p>

<p>ðŸ”¥ <strong>Packaging Your Knowledge:</strong></p>

<p>The simple structure for turning your expertise into a sellable, high-value offer that people understand instantly.</p>

<p>&nbsp;</p>

<p>ðŸ”¥ <strong>How to Sell It:</strong></p>

<p>The communication, messaging, and sales strategy that helps you attract clients without chasing them.</p>

<p>&nbsp;</p>

<p>ðŸ”¥ <strong>Your Launch Plan:</strong></p>

<p>How to launch your offer <em>with support</em>, <em>with a team</em>, and with a strategy &mdash; <strong>you will never launch alone</strong>.</p>

<p>&nbsp;</p>

<p>ðŸ”¥ <strong>Energy &amp; Momentum:</strong></p>

<p>How to run your business without burning out, staying energized and focused while you grow.</p>

<p>&nbsp;</p>

<p>Whether you&rsquo;re tired of trading hours for dollars, ready to shift from 1:1 work to a scalable model, or simply want to grow your income using your existing expertise &mdash; <strong>this event is for you.</strong></p>

<p>&nbsp;</p>

<p><strong>Who Should Attend</strong></p>

<p>&nbsp;</p>

<p>âœ” Business owners</p>

<p>âœ” Coaches &amp; consultants</p>

<p>âœ” High-level professionals (doctors, lawyers, real estate agents, etc.)</p>

<p>âœ” Service providers</p>

<p>âœ” Anyone who wants to monetize their knowledge and scale</p>

<p>&nbsp;</p>

<p>Join us and discover the exact steps to <strong>package, position, sell, and launch your knowledge with confidence and clarity.</strong></p>
<br />Details:<br /><p><strong>Cost:</strong></p>

<p>âœ” <em>Free &mdash; No charge to attend this training.</em></p>

<p>&nbsp;</p>

<p><strong>Event Type:</strong></p>

<p>Educational / Business Training / Professional Development</p>

<p>&nbsp;</p>

<p><strong>Who Should Attend:</strong></p>

<p>Business owners, coaches, consultants, professionals, service providers, and anyone who wants to monetize their knowledge.</p>

<p>&nbsp;</p>

<p><strong>Format:</strong></p>

<p>Live online webinar (via Zoom)</p>

<p>&nbsp;</p>

<p><strong>What to Expect:</strong></p>

<p>A free 60&ndash;90 minute training teaching how to package your knowledge, create a sellable offer, and launch with support.</p>
<br />Location:<br />Meeting ID 879 3341 6411 Passcode 566308<br /><br />, NV 
PRIORITY:3
TRANSP:TRANSPARENT
BEGIN:VALARM
TRIGGER:-PT5M
ACTION:DISPLAY
DESCRIPTION:Reminder
END:VALARM
END:VEVENT
END:VCALENDAR
