BEGIN:VCALENDAR
VERSION:2.0
CALSCALE:GREGORIAN
METHOD:PUBLISH
PRODID://HEND//1392603
BEGIN:VEVENT
DTSTAMP:20260424T193708
VTIMEZONE:America/Los_Angeles
DTSTART:20251209T153000Z
DTEND:20251209T170000Z
UID:1392603
SUMMARY:Nevada Business Edge Series 
LOCATION:Nevada State Bank, Nevada State Bank- 1st Floor Conference Center, Las Vegas , NV, 89119
DESCRIPTION:Nevada Business Edge Series \n\n12/09/25 07:30 AM PST\n - 12/09/25 09:00 AM PST\Description:\nNevada Business Edge Series : Equipping Businesses to Grow Smarter\n\nAgenda\n\n\n	7:30 – 8:00 AM – Networking & Breakfast (complimentary)\n	8:00 – 9:00 AM – Panel Discussion & Q&A\n\n\nThis Session: Building a Business Ready for Exit\n\nEvery business owner will exit someday—the only question is when, how, and on whose terms. The next Nevada Business Edge Series brings together advisors to discuss what it really takes to prepare for that transition.\n\nOur panel will share insights on planning ahead, strengthening leadership, and positioning your business to maximize options and outcomes when the time comes. Whether your exit is three years away or ten, this conversation will help you think differently about building a business that’s ready for the future.\n \nPanelists:\n\n\n	Oksana Komarnyckyj – Northern Trust \n	Ryan Grist  – Nevada State Bank\n	Chuck Mohler – Eagle Corporate Advisors\n\n\nModerator:\n\n	 Aviva Gordon, Gordon Law \n\n\n \n\Details:\nREGISTER HERE : Building a Business Ready for Exit – Fill out form \Location:\nNevada State Bank\nNevada State Bank- 1st Floor Conference Center\nLas Vegas , NV 89119
X-ALT-DESC;FMTTYPE=text/html:Nevada Business Edge Series <br /><br />12/09/25 07:30 AM PST - 12/09/25 09:00 AM PST<br />Description:<br /><p><strong>Nevada Business Edge Series : Equipping Businesses to Grow Smarter</strong><br />
<br />
<strong>Agenda</strong></p>

<ul>
	<li>7:30 &ndash; 8:00 AM &ndash; Networking &amp; Breakfast (complimentary)</li>
	<li>8:00 &ndash; 9:00 AM &ndash; Panel Discussion &amp; Q&amp;A</li>
</ul>
<br />
This Session:&nbsp;<strong>Building a Business Ready for Exit</strong>

<p>Every business owner will exit someday&mdash;the only question is when, how, and on whose terms. The next <strong>Nevada Business Edge Series</strong>&nbsp;brings together advisors to discuss what it really takes to prepare for that transition.</p>

<p>Our panel will share insights on planning ahead, strengthening leadership, and positioning your business to maximize options and outcomes when the time comes. Whether your exit is three years away or ten, this conversation will help you think differently about building a business that&rsquo;s ready for the future.<br />
&nbsp;</p>
Panelists:

<ul>
	<li>Oksana Komarnyckyj&nbsp;&ndash;&nbsp;Northern Trust&nbsp;</li>
	<li>Ryan Grist&nbsp; &ndash; Nevada State Bank</li>
	<li>Chuck Mohler &ndash; Eagle Corporate Advisors</li>
</ul>
<br />
Moderator:
<ul>
	<li>&nbsp;Aviva Gordon, Gordon Law&nbsp;</li>
</ul>

<p>&nbsp;</p>
<br />Details:<br />REGISTER HERE :&nbsp;<a href="https://us-west-2.protection.sophos.com?d=urldefense.com&amp;u=aHR0cHM6Ly91cmxkZWZlbnNlLmNvbS92My9fX2h0dHBzOi9mb3Jtcy5vZmZpY2UuY29tL3IvZ1BFbWZwS0tINl9fOyEhSnlyX08ta3Q0VTQhREZ6LTF0cmlUZlVZZmxhZ1psa0RZMzhCRHU1UUg2Rk1meXJhNmlyQU16LWRORExRRWdIYWRIUTdVMnN5TGwyWlBLMUJfUzhGbUtNS3o4WGpPSGpEemlSU2E3TlIk&amp;p=m&amp;i=NjRjYmQzNDc3ZjMwMWI3MDQzMmZkZDE5&amp;t=em5FNHJXbzR2U0p2T3R3RktCQ3BOQjdMcmtoWjVpY1hWMW0yYStGbkhrWT0=&amp;h=990f77e4cd144de589156da8e44aeac1&amp;s=AVNPUEhUT0NFTkNSWVBUSVZ9RvOa9eMH7Z3ywQehuEpYzD-k2e_SwoCiaRJNv6-u10QOPITpgjgiwLiqV96yJes">Building a Business Ready for Exit &ndash; Fill out form</a>&nbsp;<br />Location:<br />Nevada State Bank<br />Nevada State Bank- 1st Floor Conference Center<br />Las Vegas , NV 89119
PRIORITY:3
TRANSP:TRANSPARENT
BEGIN:VALARM
TRIGGER:-PT5M
ACTION:DISPLAY
DESCRIPTION:Reminder
END:VALARM
END:VEVENT
END:VCALENDAR
