BEGIN:VCALENDAR
VERSION:2.0
CALSCALE:GREGORIAN
METHOD:PUBLISH
PRODID://HEND//1392604
BEGIN:VEVENT
DTSTAMP:20260424T193335
VTIMEZONE:America/Los_Angeles
DTSTART:20251207T180000Z
DTEND:20251207T193000Z
UID:1392604
SUMMARY:SELL WHAT YOU KNOW
LOCATION:Zoom, NV
DESCRIPTION:SELL WHAT YOU KNOW\n\n12/07/25 10:00 AM PST\n - 12/07/25 11:30 AM PST\Description:\nðŸš€ Sell What You Know — Free Live Webinar for Coaches, Experts & Business Owners ðŸš€\n\n \n\nYou already have the knowledge, experience, and skills people are willing to pay for — now it’s time to package it, sell it, and scale it.\n\n \n\nJoin Bayina Nala, Certified 10X Business Coach & Syucai Master, for a high-impact training where you’ll learn how to turn your expertise into a profitable offer and build a business that grows even when you’re not working.\n\n \n\nðŸ”¥ What You’ll Learn:\n\n \n\nâœ… How to choose the right offer using the Clarity & Energy Formula\n\nâœ… How to package your knowledge into a high-converting webinar\n\nâœ… How to price your offer so people actually buy\n\nâœ… How to attract the right audience without complicated tech\n\nâœ… The exact step-by-step strategy to turn your experience into consistent income\n\n \n\nðŸŒŸ Who This Is For:\n\n \n\n• Coaches\n\n• Consultants\n\n• Service providers\n\n• Entrepreneurs\n\n• Anyone who wants to monetize what they already know\n\n \n\nðŸŽ¯ What You’ll Walk Away With:\n\n    •    A crystal-clear offer\n\n    •    A simple monetization plan\n\n    •    A structure for your own webinar\n\n    •    Confidence in your expertise\n\n    •    A direct path to start earning immediately\n\n \n\nâ¸»\n\n \n\nðŸ“Œ Reserve Your Spot\n\n \n\nðŸ‘‰ Register here:\n\nhttps://www.bayinanala.com/sell-what-you-know\n\Details:\nSell What You Know — Free Live Training\n\n \n\nLearn How to Turn Your Knowledge Into a Scalable, Sellable Offer\n\n \n\nIt doesn’t matter whether you’re a doctor, lawyer, consultant, coach, service provider, entrepreneur, or working professional — if you have knowledge, you have a product.\n\nAnd in today’s economy, information and expertise are the most valuable assets you already possess.\n\n \n\nIn this free training, Bayina Nala — Official 10X Business Coach & Certified Master of Syucai — will show you how to turn what you already know into a repeatable, profitable offer you can sell again and again.\n\n \n\nIn this training, you will learn:\n\n \n\nðŸ”¥ Clarity:\n\nHow to get crystal-clear on what you can sell and who will buy it — even if you have multiple skills or don’t know where to start.\n\n \n\nðŸ”¥ Packaging Your Knowledge:\n\nThe simple structure for turning your expertise into a sellable, high-value offer that people understand instantly.\n\n \n\nðŸ”¥ How to Sell It:\n\nThe communication, messaging, and sales strategy that helps you attract clients without chasing them.\n\n \n\nðŸ”¥ Your Launch Plan:\n\nHow to launch your offer with support, with a team, and with a strategy — you will never launch alone.\n\n \n\nðŸ”¥ Energy & Momentum:\n\nHow to run your business without burning out, staying energized and focused while you grow.\n\n \n\nWhether you’re tired of trading hours for dollars, ready to shift from 1:1 work to a scalable model, or simply want to grow your income using your existing expertise — this event is for you.\n\n \n\nWho Should Attend\n\n \n\nâœ” Business owners\n\nâœ” Coaches & consultants\n\nâœ” High-level professionals (doctors, lawyers, real estate agents, etc.)\n\nâœ” Service providers\n\nâœ” Anyone who wants to monetize their knowledge and scale\n\n \n\nJoin us and discover the exact steps to package, position, sell, and launch your knowledge with confidence and clarity.\n\n \n\nCost:\n\nâœ” Free — No charge to attend this training.\n\n \n\nEvent Type:\n\nEducational / Business Training / Professional Development\n\n \n\nWho Should Attend:\n\nBusiness owners, coaches, consultants, professionals, service providers, and anyone who wants to monetize their knowledge.\n\n \n\nFormat:\n\nLive online webinar (via Zoom)\n\nhttps://us06web.zoom.us/j/86511296934?pwd=yCYdxqBaFerDvGDzGAPM8ph0TZp6We.1\n\nMeeting ID: 865 1129 6934\nPasscode: 039280\n\nWhat to Expect:\n\nA free 60–90 minute training teaching how to package your knowledge, create a sellable offer, and launch with support.\n\Location:\nZoom\n\n, NV
X-ALT-DESC;FMTTYPE=text/html:SELL WHAT YOU KNOW<br /><br />12/07/25 10:00 AM PST - 12/07/25 11:30 AM PST<br />Description:<br /><p>ðŸš€<strong> Sell What You Know &mdash; Free Live Webinar for Coaches, Experts &amp; Business Owners </strong>ðŸš€</p>

<p>&nbsp;</p>

<p>You already have the knowledge, experience, and skills people are willing to pay for &mdash; now it&rsquo;s time to package it, sell it, and scale it.</p>

<p>&nbsp;</p>

<p>Join <strong>Bayina Nala</strong>, Certified 10X Business Coach &amp; Syucai Master, for a high-impact training where you&rsquo;ll learn how to turn your expertise into a profitable offer and build a business that grows even when you&rsquo;re not working.</p>

<p>&nbsp;</p>

<p>ðŸ”¥<strong> What You&rsquo;ll Learn:</strong></p>

<p>&nbsp;</p>

<p>âœ… How to choose the right offer using the Clarity &amp; Energy Formula</p>

<p>âœ… How to package your knowledge into a high-converting webinar</p>

<p>âœ… How to price your offer so people actually buy</p>

<p>âœ… How to attract the right audience without complicated tech</p>

<p>âœ… The exact step-by-step strategy to turn your experience into consistent income</p>

<p>&nbsp;</p>

<p>ðŸŒŸ<strong> Who This Is For:</strong></p>

<p>&nbsp;</p>

<p>&bull; Coaches</p>

<p>&bull; Consultants</p>

<p>&bull; Service providers</p>

<p>&bull; Entrepreneurs</p>

<p>&bull; Anyone who wants to monetize what they already know</p>

<p>&nbsp;</p>

<p>ðŸŽ¯<strong> What You&rsquo;ll Walk Away With:</strong></p>

<p>&nbsp;&nbsp; &nbsp;&bull;&nbsp;&nbsp; &nbsp;A crystal-clear offer</p>

<p>&nbsp;&nbsp; &nbsp;&bull;&nbsp;&nbsp; &nbsp;A simple monetization plan</p>

<p>&nbsp;&nbsp; &nbsp;&bull;&nbsp;&nbsp; &nbsp;A structure for your own webinar</p>

<p>&nbsp;&nbsp; &nbsp;&bull;&nbsp;&nbsp; &nbsp;Confidence in your expertise</p>

<p>&nbsp;&nbsp; &nbsp;&bull;&nbsp;&nbsp; &nbsp;A direct path to start earning immediately</p>

<p>&nbsp;</p>

<p>â¸»</p>

<p>&nbsp;</p>

<p>ðŸ“Œ<strong> Reserve Your Spot</strong></p>

<p>&nbsp;</p>

<p>ðŸ‘‰ <strong>Register here:</strong></p>

<p><a href="https://www.bayinanala.com/sell-what-you-know">https://www.bayinanala.com/sell-what-you-know</a></p>
<br />Details:<br /><p><strong>Sell What You Know &mdash; Free Live Training</strong></p>

<p>&nbsp;</p>

<p><strong>Learn How to Turn Your Knowledge Into a Scalable, Sellable Offer</strong></p>

<p>&nbsp;</p>

<p>It doesn&rsquo;t matter whether you&rsquo;re a <strong>doctor, lawyer, consultant, coach, service provider, entrepreneur, or working professional</strong> &mdash; if you have <em>knowledge</em>, you have a product.</p>

<p>And in today&rsquo;s economy, <strong>information and expertise are the most valuable assets you already possess.</strong></p>

<p>&nbsp;</p>

<p>In this free training, Bayina Nala &mdash; <strong>Official 10X Business Coach &amp; Certified Master of Syucai</strong> &mdash; will show you how to turn what you already know into a repeatable, profitable offer you can sell again and again.</p>

<p>&nbsp;</p>

<p><strong>In this training, you will learn:</strong></p>

<p>&nbsp;</p>

<p>ðŸ”¥ <strong>Clarity:</strong></p>

<p>How to get crystal-clear on <em>what</em> you can sell and <em>who</em> will buy it &mdash; even if you have multiple skills or don&rsquo;t know where to start.</p>

<p>&nbsp;</p>

<p>ðŸ”¥ <strong>Packaging Your Knowledge:</strong></p>

<p>The simple structure for turning your expertise into a sellable, high-value offer that people understand instantly.</p>

<p>&nbsp;</p>

<p>ðŸ”¥ <strong>How to Sell It:</strong></p>

<p>The communication, messaging, and sales strategy that helps you attract clients without chasing them.</p>

<p>&nbsp;</p>

<p>ðŸ”¥ <strong>Your Launch Plan:</strong></p>

<p>How to launch your offer <em>with support</em>, <em>with a team</em>, and with a strategy &mdash; <strong>you will never launch alone</strong>.</p>

<p>&nbsp;</p>

<p>ðŸ”¥ <strong>Energy &amp; Momentum:</strong></p>

<p>How to run your business without burning out, staying energized and focused while you grow.</p>

<p>&nbsp;</p>

<p>Whether you&rsquo;re tired of trading hours for dollars, ready to shift from 1:1 work to a scalable model, or simply want to grow your income using your existing expertise &mdash; <strong>this event is for you.</strong></p>

<p>&nbsp;</p>

<p><strong>Who Should Attend</strong></p>

<p>&nbsp;</p>

<p>âœ” Business owners</p>

<p>âœ” Coaches &amp; consultants</p>

<p>âœ” High-level professionals (doctors, lawyers, real estate agents, etc.)</p>

<p>âœ” Service providers</p>

<p>âœ” Anyone who wants to monetize their knowledge and scale</p>

<p>&nbsp;</p>

<p>Join us and discover the exact steps to <strong>package, position, sell, and launch your knowledge with confidence and clarity.</strong></p>

<p>&nbsp;</p>

<p><strong>Cost:</strong></p>

<p>âœ” <em>Free &mdash; No charge to attend this training.</em></p>

<p>&nbsp;</p>

<p><strong>Event Type:</strong></p>

<p>Educational / Business Training / Professional Development</p>

<p>&nbsp;</p>

<p><strong>Who Should Attend:</strong></p>

<p>Business owners, coaches, consultants, professionals, service providers, and anyone who wants to monetize their knowledge.</p>

<p>&nbsp;</p>

<p><strong>Format:</strong></p>

<p>Live online webinar (via Zoom)</p>

<p><a href="https://us06web.zoom.us/j/86511296934?pwd=yCYdxqBaFerDvGDzGAPM8ph0TZp6We.1" target="_blank">https://us06web.zoom.us/j/86511296934?pwd=yCYdxqBaFerDvGDzGAPM8ph0TZp6We.1</a><br />
<br />
Meeting ID: 865 1129 6934<br />
Passcode: 039280</p>

<p><strong>What to Expect:</strong></p>

<p>A free 60&ndash;90 minute training teaching how to package your knowledge, create a sellable offer, and launch with support.</p>
<br />Location:<br />Zoom<br /><br />, NV 
PRIORITY:3
TRANSP:TRANSPARENT
BEGIN:VALARM
TRIGGER:-PT5M
ACTION:DISPLAY
DESCRIPTION:Reminder
END:VALARM
END:VEVENT
END:VCALENDAR
