BEGIN:VCALENDAR
VERSION:2.0
CALSCALE:GREGORIAN
METHOD:PUBLISH
PRODID://HEND//1404299
BEGIN:VEVENT
DTSTAMP:20260421T055523
VTIMEZONE:America/Los_Angeles
DTSTART:20260114T180000Z
DTEND:20260114T190000Z
UID:1404299
SUMMARY:Compliance and AI: What Every Small Business Needs to Know Before Automating
LOCATION:https://events.stimulustech.com/2026-virtual-training-series/, NV
DESCRIPTION:Compliance and AI: What Every Small Business Needs to Know Before Automating\n\n01/14/26 10:00 AM PST\n - 01/14/26 11:00 AM PST\Description:\nAI can save time fast, but for many small businesses it can also introduce compliance and ethics risks just as quickly (especially when sensitive client, financial, or healthcare data is involved). In this live webinar, we’ll break down practical, plain-English guardrails for using AI tools safely so you can automate with confidence and protect trust.\n\nThis session is Part 1 of our 2026 Virtual Training Series. Want to attend all monthly trainings with one signup? Register for the full series here: https://events.stimulustech.com/2026-virtual-training-series/\n\Details:\nCompliance and AI: What Every Small Business Needs to Know Before Automating\nWho should attend: Small business owners, operations leaders, and teams in healthcare, finance, legal, and professional services (or anyone handling sensitive data).\n\nFormat: Live online webinar + Q&A\n\nWhat you’ll learn: Common AI compliance pitfalls, what data should never be entered into AI tools, and how to set simple internal guidelines for safe use.\Location:\nhttps://events.stimulustech.com/2026-virtual-training-series/\n\n, NV
X-ALT-DESC;FMTTYPE=text/html:Compliance and AI: What Every Small Business Needs to Know Before Automating<br /><br />01/14/26 10:00 AM PST - 01/14/26 11:00 AM PST<br />Description:<br /><p data-end="370" data-start="18">AI can save time fast, but for many small businesses it can also introduce compliance and ethics risks just as quickly (especially when sensitive client, financial, or healthcare data is involved). In this live webinar, we&rsquo;ll break down practical, plain-English guardrails for using AI tools safely so you can automate with confidence and protect trust.</p>

<p data-end="586" data-start="372">This session is <strong data-end="434" data-start="388">Part 1 of our 2026 Virtual Training Series</strong>. Want to attend all monthly trainings with one signup? Register for the full series here: <a data-end="586" data-start="525" href="https://events.stimulustech.com/2026-virtual-training-series/" rel="noopener" target="_new">https://events.stimulustech.com/2026-virtual-training-series/</a></p>
<br />Details:<br /><strong data-end="682" data-start="602">Compliance and AI: What Every Small Business Needs to Know Before Automating</strong><br data-end="685" data-start="682" />
Who should attend: Small business owners, operations leaders, and teams in healthcare, finance, legal, and professional services (or anyone handling sensitive data).<br data-end="853" data-start="850" />
<br />
Format: Live online webinar + Q&amp;A<br data-end="889" data-start="886" />
<br />
What you&rsquo;ll learn: Common AI compliance pitfalls, what data should never be entered into AI tools, and how to set simple internal guidelines for safe use.<br />Location:<br />https://events.stimulustech.com/2026-virtual-training-series/<br /><br />, NV 
PRIORITY:3
TRANSP:TRANSPARENT
BEGIN:VALARM
TRIGGER:-PT5M
ACTION:DISPLAY
DESCRIPTION:Reminder
END:VALARM
END:VEVENT
END:VCALENDAR
