BEGIN:VCALENDAR
VERSION:2.0
CALSCALE:GREGORIAN
METHOD:PUBLISH
PRODID://HEND//1404303
BEGIN:VEVENT
DTSTAMP:20260422T051857
VTIMEZONE:America/Los_Angeles
DTSTART:20260210T153000Z
DTEND:20260210T170000Z
UID:1404303
SUMMARY:The Nevada Business Edge Series: Equipping Businesses to Grow Smarter
LOCATION:Nevada State Bank , 750 East Warm Springs Road, LAS VEGAS, NV, 89119
DESCRIPTION:The Nevada Business Edge Series: Equipping Businesses to Grow Smarter\n\n02/10/26 07:30 AM PST\n - 02/10/26 09:00 AM PST\Description:\nTwo Sides of the Same Signature: A landlord–tenant lease in real time.\n\nEvery contract contains three constant components: negotiation, terms, and enforceability. What changes is how those components are understood, interpreted, and leveraged. In this Nevada Business Edge Series session, two experienced attorneys examine the same tenant lease from opposing perspectives. One represents the landlord. The other represents the tenant. Through live discussion and debate, they reveal how contractual language evolves, where negotiation truly exists, and which terms matter most when tested.\n\nAttendees will gain insight into how all contracts work, what assumptions business owners commonly make, and where risk and flexibility are often misunderstood.\n\nModerator: Chuck Mohler\n\nSparring Attorneys: Aviva Gordon, Esq. and Neil Sansone, Esq.\n\Details:\nAgenda:\n\n\n	7:30 – 8:00 AM – Networking & Breakfast (complimentary)\n	8:00 – 9:00 AM – Panel Discussion & Q&A\n\n\Location:\nNevada State Bank \n750 East Warm Springs Road\nLAS VEGAS, NV 89119
X-ALT-DESC;FMTTYPE=text/html:The Nevada Business Edge Series: Equipping Businesses to Grow Smarter<br /><br />02/10/26 07:30 AM PST - 02/10/26 09:00 AM PST<br />Description:<br /><p><strong>Two Sides of the Same Signature</strong>: A landlord&ndash;tenant lease in real time.</p>

<p>Every contract contains three constant components: negotiation, terms, and enforceability. What changes is how those components are understood, interpreted, and leveraged. In this Nevada Business Edge Series session, two experienced attorneys examine the same tenant lease from opposing perspectives. One represents the landlord. The other represents the tenant. Through live discussion and debate, they reveal how contractual language evolves, where negotiation truly exists, and which terms matter most when tested.</p>

<p>Attendees will gain insight into how all contracts work, what assumptions business owners commonly make, and where risk and flexibility are often misunderstood.</p>

<p><strong>Moderator</strong>: Chuck Mohler</p>

<p><strong>Sparring Attorneys</strong>: Aviva Gordon, Esq. and Neil Sansone, Esq.</p>
<br />Details:<br /><h4>Agenda:</h4>

<ul>
	<li>7:30 &ndash; 8:00 AM &ndash; Networking &amp; Breakfast (complimentary)</li>
	<li>8:00 &ndash; 9:00 AM &ndash; Panel Discussion &amp; Q&amp;A</li>
</ul>
<br />Location:<br />Nevada State Bank <br />750 East Warm Springs Road<br />LAS VEGAS, NV 89119
PRIORITY:3
TRANSP:TRANSPARENT
BEGIN:VALARM
TRIGGER:-PT5M
ACTION:DISPLAY
DESCRIPTION:Reminder
END:VALARM
END:VEVENT
END:VCALENDAR
