BEGIN:VCALENDAR
VERSION:2.0
CALSCALE:GREGORIAN
METHOD:PUBLISH
PRODID://HEND//1404306
BEGIN:VEVENT
DTSTAMP:20260423T061352
VTIMEZONE:America/Los_Angeles
DTSTART:20260123T160000Z
DTEND:20260123T173000Z
UID:1404306
SUMMARY:Lashes, Coffee and Convo
LOCATION:The Lash Lounge Henderson-The District, 2280 Paseo Verde Pkwy Suite 140, Henderson. , NV, 89052
DESCRIPTION:Lashes, Coffee and Convo\n\n01/23/26 08:00 AM PST\n - 01/23/26 09:30 AM PST\Description:\nJoin us for our monthly morning mixer at 8:00am-9:30am.  Our mixers have grown to 20-25 community leaders, colleagues, clients and friends!  Our next featured speaker, Natalie Guier, advanced esthetician with over 20 years of experience in skin care and laser therapies will share her journey, her new role at Aethereal Medspa and her innovative test to look at your skin.  We will also offer everyone a chance to introduce themselves, network,  have coffee and lite-bites.  Our lash artists will talk briefly on threading vs. waxing and offer free brow threading.  Raffle prizes, meaningful connections and fun way to meet our community.  \Details:\nJoin us for our monthly morning mixer at 8:00am-9:30am.  Our mixers have grown to 20-25 community leaders, colleagues, clients and friends!  Our next featured speaker, Natalie Guier, advanced esthetician with over 20 years of experience in skin care and laser therapies will share her journey, her new role at Aethereal Medspa and her innovative test to look at your skin.  We will also offer everyone a chance to introduce themselves, network,  have coffee and lite-bites.  Our lash artists will talk briefly on threading vs. waxing and offer free brow threading.  Raffle prizes, meaningful connections and fun way to meet our community.  \n\nTake a skin IQ quiz and win a raffle from any of our community partners. \Location:\nThe Lash Lounge Henderson-The District\n2280 Paseo Verde Pkwy Suite 140\nHenderson. , NV 89052
X-ALT-DESC;FMTTYPE=text/html:Lashes, Coffee and Convo<br /><br />01/23/26 08:00 AM PST - 01/23/26 09:30 AM PST<br />Description:<br />Join us for our monthly morning mixer at 8:00am-9:30am. &nbsp;Our mixers have grown to 20-25 community leaders, colleagues, clients and friends! &nbsp;Our next featured speaker, Natalie Guier, advanced esthetician&nbsp;with over 20 years of experience in skin care and laser therapies will share her journey, her new role at Aethereal Medspa and her innovative test to look at your skin. &nbsp;We will also offer everyone a chance to introduce themselves, network, &nbsp;have coffee and lite-bites. &nbsp;Our lash artists will talk briefly on threading vs. waxing and offer free brow threading. &nbsp;Raffle prizes, meaningful connections and fun way to meet our community. &nbsp;<br />Details:<br />Join us for our monthly morning mixer at 8:00am-9:30am. &nbsp;Our mixers have grown to 20-25 community leaders, colleagues, clients and friends! &nbsp;Our next featured speaker, Natalie Guier, advanced&nbsp;esthetician&nbsp;with over 20 years of experience in skin care and laser therapies will share her journey, her new role at&nbsp;Aethereal&nbsp;Medspa&nbsp;and her innovative test to look at your skin. &nbsp;We will also offer everyone a chance to introduce themselves, network, &nbsp;have coffee and lite-bites. &nbsp;Our lash artists will talk briefly on threading vs. waxing and offer free brow threading. &nbsp;Raffle prizes, meaningful connections and fun way to meet our community. &nbsp;<br />
<br />
Take a skin IQ quiz and win a raffle from any of our community partners.&nbsp;<br />Location:<br />The Lash Lounge Henderson-The District<br />2280 Paseo Verde Pkwy Suite 140<br />Henderson. , NV 89052
PRIORITY:3
TRANSP:TRANSPARENT
BEGIN:VALARM
TRIGGER:-PT5M
ACTION:DISPLAY
DESCRIPTION:Reminder
END:VALARM
END:VEVENT
END:VCALENDAR
