BEGIN:VCALENDAR
VERSION:2.0
CALSCALE:GREGORIAN
METHOD:PUBLISH
PRODID://HEND//1408045
BEGIN:VEVENT
DTSTAMP:20260424T174513
VTIMEZONE:America/Los_Angeles
DTSTART:20260129T200000Z
DTEND:20260129T210000Z
UID:1408045
SUMMARY:Storytelling Workshop: The Buyer's Journey
LOCATION:Launchpad, Findlay Automotive Conference Room, 112 S. Water Street #100, Henderson, NV, 89015
DESCRIPTION:Storytelling Workshop: The Buyer's Journey\n\n01/29/26 12:00 PM PST\n - 01/29/26 01:00 PM PST\Description:\n\nHave you perfected your pitch only for it to fall flat?\n\nYou walk into the room confident in what you’re about to say, and the response isn’t there. Often, that has nothing to do with whether what you’re saying is accurate or well thought out.\n\nThe issue is that the audience isn’t yet in a place to review solutions.\n\nEven when everything you’re communicating is correct, it won’t be received if the audience hasn’t reached the point where they are ready to consider options.\n\nThat process is The Buyer’s Journey.\n\nThis in-person workshop focuses on understanding how people move through The Buyer's Journey and how storytelling helps guide understanding before a decision is ever on the table. The emphasis is on recognizing where an audience actually is and communicating in a way that makes sense for that moment.\n\nWhat We’ll Cover\n\n\n	The stages of the Buyer’s Journey and how people move through them\n	Why presenting solutions too early creates resistance\n	How storytelling helps an audience recognize and understand their problem\n	How to identify where someone is in their decision process\n	How to communicate in a way that matches what the audience is ready to receive\n\n\nWorkshop Format\n\nThis is an in-person lunch workshop. Attendees are encouraged to bring their own brown bag lunch. The session is interactive and focused on practical application through discussion and real-world examples.\n\nWho This Is For\n\nThis workshop is for business owners, leaders, entrepreneurs, and professionals who want their message to be understood instead of ignored.\n\nAlthough a pitch is most commonly associated with sales, this workshop applies to anyone who communicates ideas and wants to understand how to move an audience from one place to another through story.\n\Details:\nFrequently Asked Question\n\nWho is this workshop for\nThis workshop is for business owners, leaders, entrepreneurs, and professionals who want to better understand how people move toward decisions and how storytelling fits into that process. While sales examples may come up, the concepts apply to anyone communicating ideas to an audience.\n\nDo I need a background in sales or marketing to attend\nNo. This workshop focuses on how people think and make decisions. You do not need sales experience to benefit.\n\nIs this workshop interactive or lecture based\nThe workshop is interactive. There will be discussion, real-world examples, and opportunities to think through how the concepts apply to your own work.\n\nWhat will I learn in this session\nYou will learn the stages of the Buyer’s Journey, why pitching too early creates resistance, and how storytelling helps an audience understand a problem before they are ready to review solutions.\n\nIs this a sales pitch or promotion\nNo. This is an educational workshop. There will be no selling or pitching during the session.\n\nDo I need to bring anything\nJust bring yourself and your lunch. This is a brown bag style lunch workshop.\n\Location:\nLaunchpad, Findlay Automotive Conference Room\n112 S. Water Street #100\nHenderson, NV 89015
X-ALT-DESC;FMTTYPE=text/html:Storytelling Workshop: The Buyer's Journey<br /><br />01/29/26 12:00 PM PST - 01/29/26 01:00 PM PST<br />Description:<br /><iframe allowfullscreen="" frameborder="0" height="360" src="//www.youtube.com/embed/l2mtixWBax8" width="640"></iframe>
<p>Have you perfected your pitch only for it to fall flat?</p>

<p>You walk into the room confident in what you&rsquo;re about to say, and the response isn&rsquo;t there. Often, that has nothing to do with whether what you&rsquo;re saying is accurate or well thought out.</p>

<p>The issue is that the audience isn&rsquo;t yet in a place to review solutions.</p>

<p>Even when everything you&rsquo;re communicating is correct, it won&rsquo;t be received if the audience hasn&rsquo;t reached the point where they are ready to consider options.</p>

<p>That process is The Buyer&rsquo;s Journey.</p>

<p>This in-person workshop focuses on understanding how people move through The Buyer's Journey and how storytelling helps guide understanding before a decision is ever on the table. The emphasis is on recognizing where an audience actually is and communicating in a way that makes sense for that moment.</p>

<h3><strong><strong>What We&rsquo;ll Cover</strong></strong></h3>

<ul>
	<li>The stages of the Buyer&rsquo;s Journey and how people move through them</li>
	<li>Why presenting solutions too early creates resistance</li>
	<li>How storytelling helps an audience recognize and understand their problem</li>
	<li>How to identify where someone is in their decision process</li>
	<li>How to communicate in a way that matches what the audience is ready to receive</li>
</ul>

<h3><strong><strong>Workshop Format</strong></strong></h3>

<p>This is an in-person lunch workshop. Attendees are encouraged to bring their own brown bag lunch. The session is interactive and focused on practical application through discussion and real-world examples.</p>

<h3><strong><strong>Who This Is For</strong></strong></h3>

<p>This workshop is for business owners, leaders, entrepreneurs, and professionals who want their message to be understood instead of ignored.</p>

<p>Although a pitch is most commonly associated with sales, this workshop applies to anyone who communicates ideas and wants to understand how to move an audience from one place to another through story.</p>
<br />Details:<br /><p><strong>Frequently Asked Question<br />
<br />
Who is this workshop for</strong><br />
This workshop is for business owners, leaders, entrepreneurs, and professionals who want to better understand how people move toward decisions and how storytelling fits into that process. While sales examples may come up, the concepts apply to anyone communicating ideas to an audience.</p>

<p><strong>Do I need a background in sales or marketing to attend</strong><br />
No. This workshop focuses on how people think and make decisions. You do not need sales experience to benefit.</p>

<p><strong>Is this workshop interactive or lecture based</strong><br />
The workshop is interactive. There will be discussion, real-world examples, and opportunities to think through how the concepts apply to your own work.</p>

<p><strong>What will I learn in this session</strong><br />
You will learn the stages of the Buyer&rsquo;s Journey, why pitching too early creates resistance, and how storytelling helps an audience understand a problem before they are ready to review solutions.</p>

<p><strong>Is this a sales pitch or promotion</strong><br />
No. This is an educational workshop. There will be no selling or pitching during the session.</p>

<p><strong>Do I need to bring anything</strong><br />
Just bring yourself and your lunch. This is a brown bag style lunch workshop.</p>
<br />Location:<br />Launchpad, Findlay Automotive Conference Room<br />112 S. Water Street #100<br />Henderson, NV 89015
PRIORITY:3
TRANSP:TRANSPARENT
BEGIN:VALARM
TRIGGER:-PT5M
ACTION:DISPLAY
DESCRIPTION:Reminder
END:VALARM
END:VEVENT
END:VCALENDAR
