BEGIN:VCALENDAR
VERSION:2.0
CALSCALE:GREGORIAN
METHOD:PUBLISH
PRODID://HEND//1415712
BEGIN:VEVENT
DTSTAMP:20260424T143912
VTIMEZONE:America/Los_Angeles
DTSTART:20260307T210000Z
DTEND:20260321T220000Z
UID:1415712
SUMMARY:Confident and Profitable 
LOCATION:Will be shared after registration , NV
DESCRIPTION:Confident and Profitable \n\n03/07/26 01:00 PM PST\n - 03/21/26 03:00 PM PST\Description:\nConfident and Profitable: A Business, Finance & Branding Workshop for Lash Artists and Independent Beauty Professionals\n \n\nA focused workshop designed for lash artists, estheticians, brow artists, makeup artists, and independent beauty professionals who want to strengthen their business foundation and elevate their brand, with Rebeca Mateos - Lash Artist and J H Consultant LLC.\n\n \n\nParticipants will learn:\n\n• Business acumen and financial literacy\n\n• How to speak about their personal brand with clarity & confidence\n\n• Strategies to attract and retain quality clients\n\n• Tips for building a luxury brand that clients trust and value\n\n \n\nWorkshop Dates: March 7th and March 21st\n\nTime: 1 PM – 3 PM\n\nEarly Access Price: $75\n\n \n\nTo reserve a spot, send Zelle payment to 702â€‘400â€‘7882. Location will be given at time of reservation. \n\Details:\nConfident and Profitable: A Business, Finance & Branding Workshop for Lash Artists and Independent Beauty Professionals\n \n\nA focused workshop designed for lash artists, estheticians, brow artists, makeup artists, and independent beauty professionals who want to strengthen their business foundation and elevate their brand, with Rebeca Mateos - Lash Artist and J H Consultant LLC.\n\n \n\nParticipants will learn:\n\n• Business acumen and financial literacy\n\n• How to speak about their personal brand with clarity & confidence\n\n• Strategies to attract and retain quality clients\n\n• Tips for building a luxury brand that clients trust and value\n\n \n\nWorkshop Dates: March 7th and March 21st\n\nTime: 1 PM – 3 PM\n\nEarly Access Price: $75\n\n \n\nTo reserve a spot, send Zelle payment to 702â€‘400â€‘7882. Location will be given at time of reservation. \n\Location:\nWill be shared after registration \n\n, NV
X-ALT-DESC;FMTTYPE=text/html:Confident and Profitable <br /><br />03/07/26 01:00 PM PST - 03/21/26 03:00 PM PST<br />Description:<br />Confident and Profitable: A Business, Finance &amp; Branding Workshop for Lash Artists and Independent Beauty Professionals
<div>&nbsp;</div>

<div>A focused workshop designed for lash artists, estheticians, brow artists, makeup artists, and independent beauty professionals who want to strengthen their business foundation and elevate their brand, with Rebeca Mateos - Lash Artist and J H Consultant LLC.</div>

<div>&nbsp;</div>

<div>Participants will learn:</div>

<div>&bull; Business acumen and financial literacy</div>

<div>&bull; How to speak about their personal brand with clarity &amp; confidence</div>

<div>&bull; Strategies to attract and retain quality clients</div>

<div>&bull; Tips for building a luxury brand that clients trust and value</div>

<div>&nbsp;</div>

<div>Workshop Dates: March 7th and March 21st</div>

<div>Time: 1 PM &ndash; 3 PM</div>

<div>Early Access Price: $75</div>

<div>&nbsp;</div>

<div>To reserve a spot, send Zelle payment to 702â€‘400â€‘7882. Location will be given at time of reservation.&nbsp;</div>
<br />Details:<br />Confident and Profitable: A Business, Finance &amp; Branding Workshop for Lash Artists and Independent Beauty Professionals
<div>&nbsp;</div>

<div>A focused workshop designed for lash artists, estheticians, brow artists, makeup artists, and independent beauty professionals who want to strengthen their business foundation and elevate their brand, with Rebeca Mateos - Lash Artist and J H Consultant LLC.</div>

<div>&nbsp;</div>

<div>Participants will learn:</div>

<div>&bull; Business acumen and financial literacy</div>

<div>&bull; How to speak about their personal brand with clarity &amp; confidence</div>

<div>&bull; Strategies to attract and retain quality clients</div>

<div>&bull; Tips for building a luxury brand that clients trust and value</div>

<div>&nbsp;</div>

<div>Workshop Dates: March 7th and March 21st</div>

<div>Time: 1 PM &ndash; 3 PM</div>

<div>Early Access Price: $75</div>

<div>&nbsp;</div>

<div>To reserve a spot, send Zelle payment to 702â€‘400â€‘7882. Location will be given at time of reservation.&nbsp;</div>
<br />Location:<br />Will be shared after registration <br /><br />, NV 
PRIORITY:3
TRANSP:TRANSPARENT
BEGIN:VALARM
TRIGGER:-PT5M
ACTION:DISPLAY
DESCRIPTION:Reminder
END:VALARM
END:VEVENT
END:VCALENDAR
