BEGIN:VCALENDAR
VERSION:2.0
CALSCALE:GREGORIAN
METHOD:PUBLISH
PRODID://HEND//1416233
BEGIN:VEVENT
DTSTAMP:20260424T143811
VTIMEZONE:America/Los_Angeles
DTSTART:20260325T190000Z
DTEND:20260325T200000Z
UID:1416233
SUMMARY:The Future of AI
LOCATION:Sierra Gold, 6515 S Jones Blvd, Las Vegas, NV, 89118
DESCRIPTION:The Future of AI\n\n03/25/26 12:00 PM PST\n - 03/25/26 01:00 PM PST\Description:\nJoin Us for a Complimentary Lunch and an Insightful Presentation on The Future of AI\n\nDate: 3/25/26\n\nTime: 12 PM - 1:00 PM\n\nLocation: Sierra Gold\n\nEvent Highlights:\n\n\n	Tech Presentation: The Future of AI\n	Complimentary Lunch: Enjoy a delicious meal on us while you learn.\n\n\nRSVP Today!\n\Details:\nDate: 3/25/26\nTime: 12 PM - 1:00 PM\nLocation: Sierra Gold\nTech Presentation: The Future of AI\n\Location:\nSierra Gold\n6515 S Jones Blvd\nLas Vegas, NV 89118
X-ALT-DESC;FMTTYPE=text/html:The Future of AI<br /><br />03/25/26 12:00 PM PST - 03/25/26 01:00 PM PST<br />Description:<br /><p>Join Us for a Complimentary Lunch and an Insightful Presentation on The Future of AI</p>

<p><strong><strong>Date:</strong></strong>&nbsp;3/25/26</p>

<p><strong><strong>Time:</strong></strong>&nbsp;12 PM - 1:00 PM</p>

<p><strong><strong>Location:</strong></strong>&nbsp;Sierra Gold</p>

<p><strong><strong>Event Highlights:</strong></strong></p>

<ul>
	<li><strong><strong>Tech Presentation:&nbsp;</strong></strong>The Future of AI</li>
	<li><strong><strong>Complimentary Lunch:</strong></strong>&nbsp;Enjoy a delicious meal on us while you learn.</li>
</ul>

<p><strong><strong><a href="https://bit.ly/4u5BtM2">RSVP </a>Today!</strong></strong></p>
<br />Details:<br /><p><strong><strong>Date:</strong></strong>&nbsp;3/25/26<br />
<strong><strong>Time:</strong></strong>&nbsp;12 PM - 1:00 PM<br />
<strong><strong>Location:</strong></strong>&nbsp;Sierra Gold<br />
<strong><strong>Tech Presentation:&nbsp;</strong></strong>The Future of AI</p>
<br />Location:<br />Sierra Gold<br />6515 S Jones Blvd<br />Las Vegas, NV 89118
PRIORITY:3
TRANSP:TRANSPARENT
BEGIN:VALARM
TRIGGER:-PT5M
ACTION:DISPLAY
DESCRIPTION:Reminder
END:VALARM
END:VEVENT
END:VCALENDAR
