BEGIN:VCALENDAR
VERSION:2.0
CALSCALE:GREGORIAN
METHOD:PUBLISH
PRODID://HEND//1416347
BEGIN:VEVENT
DTSTAMP:20260424T000809
VTIMEZONE:America/Los_Angeles
DTSTART:20260426T180000Z
DTEND:20260426T200000Z
UID:1416347
SUMMARY:Serving Our Kids Annual Bowl a Thon Fundraiser
LOCATION:Sunset Station Strike Zone, 1301 W Sunset, Henderson, NV, 89014
DESCRIPTION:Serving Our Kids Annual Bowl a Thon Fundraiser\n\n04/26/26 11:00 AM PST\n - 04/26/26 01:00 PM PST\Description:\nServing Our Kids Annual Bowl a Thon Fundraiser\Details:\nServing Our Kids Annual Bowl a Thon Fundraiser\nApril 26, 2026\n11:00am-1:00pm\nSunset Station Strike Zone\n\nSponsorship Packages Available\nOpen to Companies, Community Groups, Families \Location:\nSunset Station Strike Zone\n1301 W Sunset\nHenderson, NV 89014
X-ALT-DESC;FMTTYPE=text/html:Serving Our Kids Annual Bowl a Thon Fundraiser<br /><br />04/26/26 11:00 AM PST - 04/26/26 01:00 PM PST<br />Description:<br />Serving Our Kids Annual Bowl a Thon Fundraiser<br />Details:<br />Serving Our Kids Annual Bowl a Thon Fundraiser<br />
April 26, 2026<br />
11:00am-1:00pm<br />
Sunset Station Strike Zone<br />
<br />
Sponsorship Packages Available<br />
Open to Companies, Community Groups, Families&nbsp;<br />Location:<br />Sunset Station Strike Zone<br />1301 W Sunset<br />Henderson, NV 89014
PRIORITY:3
TRANSP:TRANSPARENT
BEGIN:VALARM
TRIGGER:-PT5M
ACTION:DISPLAY
DESCRIPTION:Reminder
END:VALARM
END:VEVENT
END:VCALENDAR
