BEGIN:VCALENDAR
VERSION:2.0
CALSCALE:GREGORIAN
METHOD:PUBLISH
PRODID://HEND//1416867
BEGIN:VEVENT
DTSTAMP:20260424T143822
VTIMEZONE:America/Los_Angeles
DTSTART:20260307T020000Z
DTEND:20260307T040000Z
UID:1416867
SUMMARY:"Blockbuster Beats" Dinner Show
LOCATION:Firelight Barn, 546 S. Boulder Hwy., Henderson, NV, 89015
DESCRIPTION:"Blockbuster Beats" Dinner Show\n\n03/06/26 06:00 PM PST\n - 03/06/26 08:00 PM PST\Description:\nYou'll enjoy mouthwatering BBQ and award winning entertainment with Mama's Wranglers, the Jackson Family Band, as they perform great movie theme songs like "Footloose", "Top Gun", etc.  Bring a date, a friend, your family or a group of friends!\Details:\nReservations are required, which you can make online, or by giving us a holler at 702-518-7464.  Dinner is optional ($20 per person which includes the meal, a beverage and a dessert) and ticket prices range from $12 (child) to $30 (VIP) - we do offer discounts for seniors and Veterans.\Location:\nFirelight Barn\n546 S. Boulder Hwy.\nHenderson, NV 89015
X-ALT-DESC;FMTTYPE=text/html:"Blockbuster Beats" Dinner Show<br /><br />03/06/26 06:00 PM PST - 03/06/26 08:00 PM PST<br />Description:<br />You'll enjoy mouthwatering BBQ and award winning entertainment with Mama's Wranglers, the Jackson Family Band, as they perform great movie theme songs like &quot;Footloose&quot;, &quot;Top Gun&quot;, etc.&nbsp; Bring a date, a friend, your family or a group of friends!<br />Details:<br />Reservations are required, which you can make online, or by giving us a holler at 702-518-7464.&nbsp; Dinner is optional ($20 per person which includes the meal, a beverage and a dessert) and ticket prices range from $12 (child) to $30 (VIP) - we do offer discounts for seniors and Veterans.<br />Location:<br />Firelight Barn<br />546 S. Boulder Hwy.<br />Henderson, NV 89015
PRIORITY:3
TRANSP:TRANSPARENT
BEGIN:VALARM
TRIGGER:-PT5M
ACTION:DISPLAY
DESCRIPTION:Reminder
END:VALARM
END:VEVENT
END:VCALENDAR
