BEGIN:VCALENDAR
VERSION:2.0
CALSCALE:GREGORIAN
METHOD:PUBLISH
PRODID://HEND//1416868
BEGIN:VEVENT
DTSTAMP:20260424T143837
VTIMEZONE:America/Los_Angeles
DTSTART:20260308T020000Z
DTEND:20260308T040000Z
UID:1416868
SUMMARY:"Cue the Country" Dinner Show
LOCATION:Firelight Barn, 546 S. Boulder Hwy., Henderson, NV, 89015
DESCRIPTION:"Cue the Country" Dinner Show\n\n03/07/26 06:00 PM PST\n - 03/07/26 08:00 PM PST\Description:\nMama's Wranglers, the Jackson Family Band & Cloggers, will be taking requests from the audience to choose their favorite Country music hits, like "Devil Went Down to Georgia", "Sweet Home Alabama", etc.  Get your reservations now (online, or 702-518-7464)!  Dinner is optional, beginning at 6:00 pm, and entertainment will start at 7:00.\Details:\nDinner is optional at about $20 per person which includes the meal, a beverage and a dessert.  Tickets range in price from $12 (child) to $30 (VIP) and we do have discounts for seniors and Veterans.  Reservations are required which you can get online or by calling 702-518-7464.\Location:\nFirelight Barn\n546 S. Boulder Hwy.\nHenderson, NV 89015
X-ALT-DESC;FMTTYPE=text/html:"Cue the Country" Dinner Show<br /><br />03/07/26 06:00 PM PST - 03/07/26 08:00 PM PST<br />Description:<br />Mama's Wranglers, the Jackson Family Band &amp; Cloggers, will be taking requests from the audience to choose their favorite Country music hits, like &quot;Devil Went Down to Georgia&quot;, &quot;Sweet Home Alabama&quot;, etc.&nbsp; Get your reservations now (online, or 702-518-7464)!&nbsp; Dinner is optional, beginning at 6:00 pm, and entertainment will start at 7:00.<br />Details:<br />Dinner is optional at about $20 per person which includes the meal, a beverage and a dessert.&nbsp; Tickets range in price from $12 (child) to $30 (VIP) and we do have discounts for seniors and Veterans.&nbsp; Reservations are required which you can get online or by calling 702-518-7464.<br />Location:<br />Firelight Barn<br />546 S. Boulder Hwy.<br />Henderson, NV 89015
PRIORITY:3
TRANSP:TRANSPARENT
BEGIN:VALARM
TRIGGER:-PT5M
ACTION:DISPLAY
DESCRIPTION:Reminder
END:VALARM
END:VEVENT
END:VCALENDAR
