BEGIN:VCALENDAR
VERSION:2.0
CALSCALE:GREGORIAN
METHOD:PUBLISH
PRODID://HEND//1416869
BEGIN:VEVENT
DTSTAMP:20260424T143745
VTIMEZONE:America/Los_Angeles
DTSTART:20260314T010000Z
DTEND:20260314T033000Z
UID:1416869
SUMMARY:Murder Mystery Dinner Show
LOCATION:Firelight Barn, 546 S. Boulder Hwy., Henderson, NV, 89015
DESCRIPTION:Murder Mystery Dinner Show\n\n03/13/26 06:00 PM PST\n - 03/13/26 08:30 PM PST\Description:\nTravel back in time with us to the Great Roman Empire. Our most illustrious Caesar has invited all members of his court to attend a Masquerade Gala in honor of his four simultaneous TRIUMPHS! An unparalleled feat in the annals of Roman Glory. But the road to power is never without peril. Behind the splendor lies a tale of ambition, betrayal and bloodshed. The halls may echo with music and laughter, but danger still lingers in the shadows … for someone will soon pay dearly for their treachery!\n\nThis is a ONE-TIME-ONLY event and every table becomes an investigative team to help solve the mystery.  Delicious BBQ dinner will be served, but you do need reservations and this show is guaranteed to sell out.\Details:\nIf you were to catch this show on the strip, you'd be paying near $100 per ticket, but here at the barn it's only $52 per person, which includes your meal!\Location:\nFirelight Barn\n546 S. Boulder Hwy.\nHenderson, NV 89015
X-ALT-DESC;FMTTYPE=text/html:Murder Mystery Dinner Show<br /><br />03/13/26 06:00 PM PST - 03/13/26 08:30 PM PST<br />Description:<br />Travel back in time with us to the Great Roman Empire. Our most illustrious Caesar has invited all members of his court to attend a Masquerade Gala in honor of his four simultaneous TRIUMPHS! An unparalleled feat in the annals of Roman Glory. But the road to power is never without peril. Behind the splendor lies a tale of ambition, betrayal and bloodshed. The halls may echo with music and laughter, but danger still lingers in the shadows &hellip; for someone will soon pay dearly for their treachery!<br />
<br />
This is a ONE-TIME-ONLY event and every table becomes an investigative team to help solve the mystery.&nbsp; Delicious BBQ dinner will be served, but you do need reservations and this show is guaranteed to sell out.<br />Details:<br />If you were to catch this show on the strip, you'd be paying near $100 per ticket, but here at the barn it's only $52 per person, which includes your meal!<br />Location:<br />Firelight Barn<br />546 S. Boulder Hwy.<br />Henderson, NV 89015
PRIORITY:3
TRANSP:TRANSPARENT
BEGIN:VALARM
TRIGGER:-PT5M
ACTION:DISPLAY
DESCRIPTION:Reminder
END:VALARM
END:VEVENT
END:VCALENDAR
