BEGIN:VCALENDAR
VERSION:2.0
CALSCALE:GREGORIAN
METHOD:PUBLISH
PRODID://HEND//1416870
BEGIN:VEVENT
DTSTAMP:20260424T143939
VTIMEZONE:America/Los_Angeles
DTSTART:20260315T010000Z
DTEND:20260315T030000Z
UID:1416870
SUMMARY:PREMIERE Jukebox Jams Dinner Show
LOCATION:Firelight Barn, 546 S. Boulder Hwy., Henderson, NV, 89015
DESCRIPTION:PREMIERE Jukebox Jams Dinner Show\n\n03/14/26 06:00 PM PST\n - 03/14/26 08:00 PM PST\Description:\nStep into a high-energy rock n' roll experience that blasts through the biggest hits of the ’50s through the ’80s. From jukebox swing to arena-rock anthems, every song brings the nostalgia roaring back. “Jukebox Jams” is a must-see show! This will be an unforgettable performance by Mama's Wranglers, the Jackson Family Band, that proves great music never fades.  Mouthwatering BBQ dinner is optional.\Details:\nReservations are required.  Show tickets vary from $12 (child) to $30 (VIP) and we do offer a discount for seniors and Veterans and groups of 15 or more!  Dinner is optional at about $20 per person which includes the meal, a beverage and a dessert!\Location:\nFirelight Barn\n546 S. Boulder Hwy.\nHenderson, NV 89015
X-ALT-DESC;FMTTYPE=text/html:PREMIERE Jukebox Jams Dinner Show<br /><br />03/14/26 06:00 PM PST - 03/14/26 08:00 PM PST<br />Description:<br />Step into a high-energy rock n' roll experience that blasts through the biggest hits of the &rsquo;50s through the &rsquo;80s. From jukebox swing to arena-rock anthems, every song brings the nostalgia roaring back. &ldquo;Jukebox Jams&rdquo; is a must-see show! This will be an unforgettable performance by Mama's Wranglers, the Jackson Family Band, that proves great music never fades.&nbsp; Mouthwatering BBQ dinner is optional.<br />Details:<br />Reservations are required.&nbsp; Show tickets vary from $12 (child) to $30 (VIP) and we do offer a discount for seniors and Veterans and groups of 15 or more!&nbsp; Dinner is optional at about $20 per person which includes the meal, a beverage and a dessert!<br />Location:<br />Firelight Barn<br />546 S. Boulder Hwy.<br />Henderson, NV 89015
PRIORITY:3
TRANSP:TRANSPARENT
BEGIN:VALARM
TRIGGER:-PT5M
ACTION:DISPLAY
DESCRIPTION:Reminder
END:VALARM
END:VEVENT
END:VCALENDAR
