BEGIN:VCALENDAR
VERSION:2.0
CALSCALE:GREGORIAN
METHOD:PUBLISH
PRODID://HEND//1416874
BEGIN:VEVENT
DTSTAMP:20260424T143822
VTIMEZONE:America/Los_Angeles
DTSTART:20260317T190000Z
DTEND:20260317T200000Z
UID:1416874
SUMMARY:St. Paddy's Day Lunch Craic 
LOCATION:Firelight Barn, 546 S. Boulder Hwy., Henderson, NV, 89015
DESCRIPTION:St. Paddy's Day Lunch Craic \n\n03/17/26 12:00 PM PST\n - 03/17/26 01:00 PM PST\Description:\nSkip the crowded restaurants and do St. Patrick's Day the Firelight way - food and fun all before dinner time!  Celebrate with the Wranglers for a festive afternoon of music, laughter and delicious food!  Prize for the best dressed "Leprechaun" or just wear green!  Bring your social club, a church group or bring 4 friends and get YOUR ticket FREE!\n\nDon't get left without your pot of gold - this is ONE-DAY-ONLY!\Details:\nThe package deal is $35.16 and includes everything except gratuity - your meal, a beverage, special shamrock dessert and entertainment featuring Mama's Wranglers, the Jackson Family Band!\Location:\nFirelight Barn\n546 S. Boulder Hwy.\nHenderson, NV 89015
X-ALT-DESC;FMTTYPE=text/html:St. Paddy's Day Lunch Craic <br /><br />03/17/26 12:00 PM PST - 03/17/26 01:00 PM PST<br />Description:<br />Skip the crowded restaurants and do St. Patrick's Day the Firelight way - food and fun all before dinner time!&nbsp; Celebrate with the Wranglers for a festive afternoon of music, laughter and delicious food!&nbsp; Prize for the best dressed &quot;Leprechaun&quot; or just wear green!&nbsp; Bring your social club, a church group or bring 4 friends and get YOUR ticket FREE!<br />
<br />
Don't get left without your pot of gold - this is ONE-DAY-ONLY!<br />Details:<br />The package deal is $35.16 and includes everything except gratuity - your meal, a beverage, special shamrock dessert and entertainment featuring Mama's Wranglers, the Jackson Family Band!<br />Location:<br />Firelight Barn<br />546 S. Boulder Hwy.<br />Henderson, NV 89015
PRIORITY:3
TRANSP:TRANSPARENT
BEGIN:VALARM
TRIGGER:-PT5M
ACTION:DISPLAY
DESCRIPTION:Reminder
END:VALARM
END:VEVENT
END:VCALENDAR
