BEGIN:VCALENDAR
VERSION:2.0
CALSCALE:GREGORIAN
METHOD:PUBLISH
PRODID://HEND//1416875
BEGIN:VEVENT
DTSTAMP:20260424T143837
VTIMEZONE:America/Los_Angeles
DTSTART:20260321T010000Z
DTEND:20260321T033000Z
UID:1416875
SUMMARY:Hope & Herstory: A Women's History Month Trivia Night
LOCATION:The Nest at SafeNest , 3844 Meadows Lane , Las Vegas , NV, 89107
DESCRIPTION:Hope & Herstory: A Women's History Month Trivia Night\n\n03/20/26 06:00 PM PST\n - 03/20/26 08:30 PM PST\Description:\nâœ¨ Sponsored by Bentley Las Vegas âœ¨ In collaboration with Metro Pizza âœ¨ Benefiting SafeNest âœ¨\n \nCelebrate Women’s History Month with an evening of fun, friendly competition, and community at The Nest at SafeNest!\n\nJoin us for a lively trivia night featuring multiple categories—with special questions woven throughout highlighting powerful women, historic milestones, and moments that shaped history. Whether you’re a trivia pro or just in it for the laughs, this is your chance to test your knowledge while supporting a meaningful cause.\n\nðŸ• Pizza will be provided\n\nðŸ· Cash bar available\n\nðŸ¥¤ Guests are welcome to bring their own snacks and non-alcoholic beverages\n\nðŸ‘— Come dressed as your favorite woman in history!\n\nGuests ages 18+ are welcome to attend.\n\Details:\nTickets are $100 per team of 4 (teams must be purchased in groups of four). Grab your smartest friends, your most competitive coworkers, or your favorite trivia crew and secure your spot. We’ll also have exciting prizes, so bring your A-game!\n\nAll proceeds benefit SafeNest and support survivors of domestic and sexual violence in our community.\n\nSpace is limited—gather your team and register today!\n\Location:\nThe Nest at SafeNest \n3844 Meadows Lane \nLas Vegas , NV 89107
X-ALT-DESC;FMTTYPE=text/html:Hope & Herstory: A Women's History Month Trivia Night<br /><br />03/20/26 06:00 PM PST - 03/20/26 08:30 PM PST<br />Description:<br />âœ¨ Sponsored by Bentley Las Vegas âœ¨ In collaboration with Metro Pizza âœ¨ Benefiting SafeNest âœ¨<br />
&nbsp;
<p>Celebrate Women&rsquo;s History Month with an evening of fun, friendly competition, and community at The Nest at SafeNest!</p>

<p>Join us for a lively trivia night featuring multiple categories&mdash;with special questions woven throughout highlighting powerful women, historic milestones, and moments that shaped history. Whether you&rsquo;re a trivia pro or just in it for the laughs, this is your chance to test your knowledge while supporting a meaningful cause.</p>

<p>ðŸ• Pizza will be provided</p>

<p>ðŸ· Cash bar available</p>

<p>ðŸ¥¤ Guests are welcome to bring their own snacks and non-alcoholic beverages</p>

<p>ðŸ‘— Come dressed as your favorite woman in history!</p>

<p><strong><strong>G</strong></strong><strong><strong>uests ages 18+</strong></strong>&nbsp;are welcome to attend.</p>
<br />Details:<br /><p>Tickets are&nbsp;<strong><strong>$100 per team of 4</strong></strong>&nbsp;(teams must be purchased in groups of four). Grab your smartest friends, your most competitive coworkers, or your favorite trivia crew and secure your spot. We&rsquo;ll also have exciting prizes, so bring your A-game!</p>

<p>All proceeds benefit SafeNest and support survivors of domestic and sexual violence in our community.</p>

<p>Space is limited&mdash;gather your team and register today!</p>
<br />Location:<br />The Nest at SafeNest <br />3844 Meadows Lane <br />Las Vegas , NV 89107
PRIORITY:3
TRANSP:TRANSPARENT
BEGIN:VALARM
TRIGGER:-PT5M
ACTION:DISPLAY
DESCRIPTION:Reminder
END:VALARM
END:VEVENT
END:VCALENDAR
