BEGIN:VCALENDAR
VERSION:2.0
CALSCALE:GREGORIAN
METHOD:PUBLISH
PRODID://HEND//1416876
BEGIN:VEVENT
DTSTAMP:20260424T144241
VTIMEZONE:America/Los_Angeles
DTSTART:20260326T184500Z
DTEND:20260326T200000Z
UID:1416876
SUMMARY:Storytelling Workshop: Curiosity Before Story
LOCATION:Launchpad Findlay Volkswagen Seminar Room, 112 S. Water Street, Henderson, NV, 89015
DESCRIPTION:Storytelling Workshop: Curiosity Before Story\n\n03/26/26 11:45 AM PST\n - 03/26/26 01:00 PM PST\Description:\nCuriosity Before Story is a live, interactive storytelling workshop focused on improving how you navigate important conversations in business.\n\nBefore you tell a story, present a solution, or move someone toward a decision, you need to understand where they are. This session explores how curiosity within the PAAT framework helps you identify readiness, clarify context, and place your story with intention instead of assumption.\n\nWhether you are a business owner, leader, or professional who regularly communicates ideas to others, this workshop will help you strengthen your discovery process and improve how your message lands.\n\nThis is a free event. Seating is limited.\n\Details:\nBring a homemade lunch in a brown bag and be entered into a drawing for a Starbucks gift card. \n\Location:\nLaunchpad Findlay Volkswagen Seminar Room\n112 S. Water Street\nHenderson, NV 89015
X-ALT-DESC;FMTTYPE=text/html:Storytelling Workshop: Curiosity Before Story<br /><br />03/26/26 11:45 AM PST - 03/26/26 01:00 PM PST<br />Description:<br /><p><strong><strong>Curiosity Before Story</strong></strong>&nbsp;is a live, interactive storytelling workshop focused on improving how you navigate important conversations in business.</p>

<p>Before you tell a story, present a solution, or move someone toward a decision, you need to understand where they are. This session explores how curiosity within the PAAT framework helps you identify readiness, clarify context, and place your story with intention instead of assumption.</p>

<p>Whether you are a business owner, leader, or professional who regularly communicates ideas to others, this workshop will help you strengthen your discovery process and improve how your message lands.</p>

<p>This is a free event. Seating is limited.</p>
<br />Details:<br /><p>Bring a homemade lunch in a brown bag and be entered into a drawing for a Starbucks gift card.&nbsp;</p>
<br />Location:<br />Launchpad Findlay Volkswagen Seminar Room<br />112 S. Water Street<br />Henderson, NV 89015
PRIORITY:3
TRANSP:TRANSPARENT
BEGIN:VALARM
TRIGGER:-PT5M
ACTION:DISPLAY
DESCRIPTION:Reminder
END:VALARM
END:VEVENT
END:VCALENDAR
