BEGIN:VCALENDAR
VERSION:2.0
CALSCALE:GREGORIAN
METHOD:PUBLISH
PRODID://HEND//1416877
BEGIN:VEVENT
DTSTAMP:20260424T000651
VTIMEZONE:America/Los_Angeles
DTSTART:20260509T010000Z
DTEND:20260509T040000Z
UID:1416877
SUMMARY:Saddles, Sips, & Support: A SafeNest Food & Pub Crawl
LOCATION:The Nest at SafeNest , 3844 Meadows Lane , Las Vegas , NV, 89107
DESCRIPTION:Saddles, Sips, & Support: A SafeNest Food & Pub Crawl\n\n05/08/26 06:00 PM PST\n - 05/08/26 09:00 PM PST\Description:\nPresented by GWP Immigration Law \nSaddles, Sips, and Support is where country charm meets a powerful cause. Dust off your boots, grab your cowboy hat, and join us at The Nest for a high-spirited pub and food crawl featuring signature sips, delicious bites, lively entertainment, and plenty of toe-tapping fun. Whether you're two-stepping between stops or just raising a glass with friends, every moment supports SafeNest’s mission to end domestic and sexual violence. Come for the fun, stay for the impact—because together, hope starts here. \n\nGuest ages 21+ are welcome to attend.\n\nAll cowgirls and cowboys are free to come dressed in their favorite western attire and bring their Wild West spirit for a night to remember! \n\nProceeds from this event directly support SafeNest programs, including Camp HOPE, a transformative week-long summer camp for children ages 7–17 who have been impacted by domestic violence. It will be a night filled with western flair, great company, and meaningful impact, all in support of our incredible kiddos. \n\Details:\nPurchase Individual Event Tickets or Become a Sponsor \n\nSponsorship Packages: \n\nBoot Scootin’ Sponsor \n\n$6,000 \n\n12 Tickets Included \n\n\n	\n	Recognition as the Presenting Sponsor in all press releases and media events. \n	\n\n\n\n	\n	One on-air tv interview alongside a SafeNest representative (pending availability). \n	\n\n\n\n	\n	Top-tier logo placement on all event marketing including website, signage, emails, and social media. \n	\n\n\n\n	\n	Branded sponsorship of one activation. \n	\n\n\n\n	\n	Each guest receives one event passport to participate in activations and 20 raffle tickets. \n	\n\n\n\n	\n	Custom signature drink creatively named in honor of your brand. \n	\n\n\n\n	\n	VIP early access. \n	\n\n\n\n	\n	Event branded glassware. \n	\n\n\nSaddle Up Sponsor \n\n$5,000 \n\n10 Tickets Included \n\n\n	\n	Each guest receives one event passport to participate in activations and 10 raffle tickets. \n	\n\n\n\n	\n	Premier logo placement at event and included on website, signage, emails, and social media. \n	\n\n\n\n	\n	Branded sponsorship of one activation. \n	\n\n\n\n	\n	VIP early access. \n	\n\n\n\n	\n	Event branded glassware. \n	\n\n\nHigh Noon Sponsor \n\n$2,500 \n\n8 Tickets Included \n\n\n	\n	Logo recognition on event website, social media, emails, and onscreen at the event. \n	\n\n\n\n	\n	Each guest receives one event passport to participate in activations and 5 raffle tickets. \n	\n\n\n\n	\n	Event branded glassware. \n	\n\n\nOutlaw Sponsor \n\n$1,000 \n\n4 Tickets Included\n\n\n	\n	Logo recognition on event website, social media, emails, and onscreen at the event. \n	\n\n\n\n	\n	Each guest receives one event passport to participate in activations and 2 raffle tickets. \n	\n\n\n\n	\n	Event branded glassware. \n	\n\n\nPurchase Individual Tickets \n\nIndividual Ticket: $150 \n\n\n	\n	Admission for one guest \n	\n\n\n\n	\n	One passport granting access to all activations. \n	\n\n\nPair Tickets: $250 \n\n\n	\n	Admission for two guests \n	\n\n\n\n	\n	Two passports (one per guest), granting access to all activations. \n	\n\n\nAdd-Ons \n\nÀ La Carte Raffle Tickets \n\n$50: 10 Tickets Included \n\nBoost your chances of winning a raffle package by purchasing additional raffle tickets! Each purchase includes 10 raffle tickets. \n\Location:\nThe Nest at SafeNest \n3844 Meadows Lane \nLas Vegas , NV 89107
X-ALT-DESC;FMTTYPE=text/html:Saddles, Sips, & Support: A SafeNest Food & Pub Crawl<br /><br />05/08/26 06:00 PM PST - 05/08/26 09:00 PM PST<br />Description:<br />Presented by GWP Immigration Law&nbsp;
<p><strong>Saddles, Sips, and&nbsp;Support</strong>&nbsp;is where country charm meets a powerful cause. Dust off your boots, grab your cowboy hat, and join us at The Nest for a high-spirited pub and food crawl featuring signature sips, delicious bites, lively entertainment, and plenty of toe-tapping fun. Whether you're two-stepping between stops or just raising a glass with friends, every moment supports SafeNest&rsquo;s mission to end domestic and sexual violence. Come for the fun, stay for the impact&mdash;because together, hope starts here.&nbsp;</p>

<p>Guest ages 21+ are welcome to attend.</p>

<p>All cowgirls&nbsp;and cowboys&nbsp;are free to come dressed in their favorite western attire and bring their Wild West spirit for a night to remember!&nbsp;</p>

<p>Proceeds from this event directly support SafeNest programs, including&nbsp;<strong>Camp HOPE</strong>, a transformative week-long summer camp for children ages 7&ndash;17 who have been impacted by domestic violence. It will be a night filled with western flair, great company, and meaningful impact, all in support of our incredible kiddos.&nbsp;</p>
<br />Details:<br /><p aria-level="2" lang="EN-US" paraeid="{0d9e8605-ce07-40e0-a894-3066365dd4fd}{14}" paraid="1870374261" role="heading" style="text-align: center;" xml:lang="EN-US"><strong>Purchase Individual Event Tickets or Become a Sponsor&nbsp;</strong></p>

<p aria-level="3" lang="EN-US" paraeid="{0d9e8605-ce07-40e0-a894-3066365dd4fd}{29}" paraid="248334971" role="heading" xml:lang="EN-US"><strong>Sponsorship Packages:&nbsp;</strong></p>

<p lang="EN-US" paraeid="{0d9e8605-ce07-40e0-a894-3066365dd4fd}{37}" paraid="1583129857" xml:lang="EN-US">Boot&nbsp;Scootin&rsquo; Sponsor&nbsp;</p>

<p lang="EN-US" paraeid="{0d9e8605-ce07-40e0-a894-3066365dd4fd}{44}" paraid="645713388" xml:lang="EN-US">$6,000&nbsp;</p>

<p lang="EN-US" paraeid="{0d9e8605-ce07-40e0-a894-3066365dd4fd}{51}" paraid="391185761" xml:lang="EN-US">12 Tickets Included&nbsp;</p>

<ul role="list">
	<li aria-setsize="-1" data-aria-level="1" data-aria-posinset="1" data-font="Symbol" data-leveltext="ï‚·" data-list-defn-props="{&quot;335552541&quot;:1,&quot;335559683&quot;:0,&quot;335559684&quot;:-2,&quot;335559685&quot;:720,&quot;335559991&quot;:360,&quot;469769226&quot;:&quot;Symbol&quot;,&quot;469769242&quot;:[8226],&quot;469777803&quot;:&quot;left&quot;,&quot;469777804&quot;:&quot;ï‚·&quot;,&quot;469777815&quot;:&quot;hybridMultilevel&quot;}" data-listid="1" role="listitem">
	<p lang="EN-US" paraeid="{0d9e8605-ce07-40e0-a894-3066365dd4fd}{72}" paraid="1040032096" xml:lang="EN-US">Recognition as the Presenting Sponsor in all press releases and media events.&nbsp;</p>
	</li>
</ul>

<ul role="list">
	<li aria-setsize="-1" data-aria-level="1" data-aria-posinset="2" data-font="Symbol" data-leveltext="ï‚·" data-list-defn-props="{&quot;335552541&quot;:1,&quot;335559683&quot;:0,&quot;335559684&quot;:-2,&quot;335559685&quot;:720,&quot;335559991&quot;:360,&quot;469769226&quot;:&quot;Symbol&quot;,&quot;469769242&quot;:[8226],&quot;469777803&quot;:&quot;left&quot;,&quot;469777804&quot;:&quot;ï‚·&quot;,&quot;469777815&quot;:&quot;hybridMultilevel&quot;}" data-listid="1" role="listitem">
	<p lang="EN-US" paraeid="{0d9e8605-ce07-40e0-a894-3066365dd4fd}{91}" paraid="1279065584" xml:lang="EN-US">One on-air tv interview alongside a SafeNest representative (pending&nbsp;availability).&nbsp;</p>
	</li>
</ul>

<ul role="list">
	<li aria-setsize="-1" data-aria-level="1" data-aria-posinset="3" data-font="Symbol" data-leveltext="ï‚·" data-list-defn-props="{&quot;335552541&quot;:1,&quot;335559683&quot;:0,&quot;335559684&quot;:-2,&quot;335559685&quot;:720,&quot;335559991&quot;:360,&quot;469769226&quot;:&quot;Symbol&quot;,&quot;469769242&quot;:[8226],&quot;469777803&quot;:&quot;left&quot;,&quot;469777804&quot;:&quot;ï‚·&quot;,&quot;469777815&quot;:&quot;hybridMultilevel&quot;}" data-listid="1" role="listitem">
	<p lang="EN-US" paraeid="{0d9e8605-ce07-40e0-a894-3066365dd4fd}{102}" paraid="783393526" xml:lang="EN-US">Top-tier logo placement on all event marketing including website, signage, emails, and social media.&nbsp;</p>
	</li>
</ul>

<ul role="list">
	<li aria-setsize="-1" data-aria-level="1" data-aria-posinset="4" data-font="Symbol" data-leveltext="ï‚·" data-list-defn-props="{&quot;335552541&quot;:1,&quot;335559683&quot;:0,&quot;335559684&quot;:-2,&quot;335559685&quot;:720,&quot;335559991&quot;:360,&quot;469769226&quot;:&quot;Symbol&quot;,&quot;469769242&quot;:[8226],&quot;469777803&quot;:&quot;left&quot;,&quot;469777804&quot;:&quot;ï‚·&quot;,&quot;469777815&quot;:&quot;hybridMultilevel&quot;}" data-listid="1" role="listitem">
	<p lang="EN-US" paraeid="{0d9e8605-ce07-40e0-a894-3066365dd4fd}{113}" paraid="2087699832" xml:lang="EN-US">Branded sponsorship of one activation.&nbsp;</p>
	</li>
</ul>

<ul role="list">
	<li aria-setsize="-1" data-aria-level="1" data-aria-posinset="5" data-font="Symbol" data-leveltext="ï‚·" data-list-defn-props="{&quot;335552541&quot;:1,&quot;335559683&quot;:0,&quot;335559684&quot;:-2,&quot;335559685&quot;:720,&quot;335559991&quot;:360,&quot;469769226&quot;:&quot;Symbol&quot;,&quot;469769242&quot;:[8226],&quot;469777803&quot;:&quot;left&quot;,&quot;469777804&quot;:&quot;ï‚·&quot;,&quot;469777815&quot;:&quot;hybridMultilevel&quot;}" data-listid="1" role="listitem">
	<p lang="EN-US" paraeid="{0d9e8605-ce07-40e0-a894-3066365dd4fd}{124}" paraid="1593528519" xml:lang="EN-US">Each guest receives one event passport to&nbsp;participate&nbsp;in activations and 20 raffle tickets.&nbsp;</p>
	</li>
</ul>

<ul role="list">
	<li aria-setsize="-1" data-aria-level="1" data-aria-posinset="6" data-font="Symbol" data-leveltext="ï‚·" data-list-defn-props="{&quot;335552541&quot;:1,&quot;335559683&quot;:0,&quot;335559684&quot;:-2,&quot;335559685&quot;:720,&quot;335559991&quot;:360,&quot;469769226&quot;:&quot;Symbol&quot;,&quot;469769242&quot;:[8226],&quot;469777803&quot;:&quot;left&quot;,&quot;469777804&quot;:&quot;ï‚·&quot;,&quot;469777815&quot;:&quot;hybridMultilevel&quot;}" data-listid="1" role="listitem">
	<p lang="EN-US" paraeid="{0d9e8605-ce07-40e0-a894-3066365dd4fd}{135}" paraid="714650278" xml:lang="EN-US">Custom signature&nbsp;drink&nbsp;creatively named in honor of your brand.&nbsp;</p>
	</li>
</ul>

<ul role="list">
	<li aria-setsize="-1" data-aria-level="1" data-aria-posinset="7" data-font="Symbol" data-leveltext="ï‚·" data-list-defn-props="{&quot;335552541&quot;:1,&quot;335559683&quot;:0,&quot;335559684&quot;:-2,&quot;335559685&quot;:720,&quot;335559991&quot;:360,&quot;469769226&quot;:&quot;Symbol&quot;,&quot;469769242&quot;:[8226],&quot;469777803&quot;:&quot;left&quot;,&quot;469777804&quot;:&quot;ï‚·&quot;,&quot;469777815&quot;:&quot;hybridMultilevel&quot;}" data-listid="1" role="listitem">
	<p lang="EN-US" paraeid="{0d9e8605-ce07-40e0-a894-3066365dd4fd}{146}" paraid="1710333735" xml:lang="EN-US">VIP&nbsp;early access.&nbsp;</p>
	</li>
</ul>

<ul role="list">
	<li aria-setsize="-1" data-aria-level="1" data-aria-posinset="8" data-font="Symbol" data-leveltext="ï‚·" data-list-defn-props="{&quot;335552541&quot;:1,&quot;335559683&quot;:0,&quot;335559684&quot;:-2,&quot;335559685&quot;:720,&quot;335559991&quot;:360,&quot;469769226&quot;:&quot;Symbol&quot;,&quot;469769242&quot;:[8226],&quot;469777803&quot;:&quot;left&quot;,&quot;469777804&quot;:&quot;ï‚·&quot;,&quot;469777815&quot;:&quot;hybridMultilevel&quot;}" data-listid="1" role="listitem">
	<p lang="EN-US" paraeid="{0d9e8605-ce07-40e0-a894-3066365dd4fd}{157}" paraid="1389251409" xml:lang="EN-US">Event branded glassware.&nbsp;</p>
	</li>
</ul>

<p lang="EN-US" paraeid="{0d9e8605-ce07-40e0-a894-3066365dd4fd}{183}" paraid="632827633" xml:lang="EN-US">Saddle Up Sponsor&nbsp;</p>

<p lang="EN-US" paraeid="{0d9e8605-ce07-40e0-a894-3066365dd4fd}{190}" paraid="1036971406" xml:lang="EN-US">$5,000&nbsp;</p>

<p lang="EN-US" paraeid="{0d9e8605-ce07-40e0-a894-3066365dd4fd}{197}" paraid="1868397392" xml:lang="EN-US">10 Tickets Included&nbsp;</p>

<ul role="list">
	<li aria-setsize="-1" data-aria-level="1" data-aria-posinset="1" data-font="Symbol" data-leveltext="ï‚·" data-list-defn-props="{&quot;335552541&quot;:1,&quot;335559683&quot;:0,&quot;335559684&quot;:-2,&quot;335559685&quot;:720,&quot;335559991&quot;:360,&quot;469769226&quot;:&quot;Symbol&quot;,&quot;469769242&quot;:[8226],&quot;469777803&quot;:&quot;left&quot;,&quot;469777804&quot;:&quot;ï‚·&quot;,&quot;469777815&quot;:&quot;hybridMultilevel&quot;}" data-listid="2" role="listitem">
	<p lang="EN-US" paraeid="{0d9e8605-ce07-40e0-a894-3066365dd4fd}{232}" paraid="1852839395" xml:lang="EN-US">Each guest receives one event passport to&nbsp;participate&nbsp;in activations and 10 raffle tickets.&nbsp;</p>
	</li>
</ul>

<ul role="list">
	<li aria-setsize="-1" data-aria-level="1" data-aria-posinset="2" data-font="Symbol" data-leveltext="ï‚·" data-list-defn-props="{&quot;335552541&quot;:1,&quot;335559683&quot;:0,&quot;335559684&quot;:-2,&quot;335559685&quot;:720,&quot;335559991&quot;:360,&quot;469769226&quot;:&quot;Symbol&quot;,&quot;469769242&quot;:[8226],&quot;469777803&quot;:&quot;left&quot;,&quot;469777804&quot;:&quot;ï‚·&quot;,&quot;469777815&quot;:&quot;hybridMultilevel&quot;}" data-listid="2" role="listitem">
	<p lang="EN-US" paraeid="{0d9e8605-ce07-40e0-a894-3066365dd4fd}{251}" paraid="644957159" xml:lang="EN-US">Premier logo placement at&nbsp;event&nbsp;and included on website, signage, emails, and social media.&nbsp;</p>
	</li>
</ul>

<ul role="list">
	<li aria-setsize="-1" data-aria-level="1" data-aria-posinset="3" data-font="Symbol" data-leveltext="ï‚·" data-list-defn-props="{&quot;335552541&quot;:1,&quot;335559683&quot;:0,&quot;335559684&quot;:-2,&quot;335559685&quot;:720,&quot;335559991&quot;:360,&quot;469769226&quot;:&quot;Symbol&quot;,&quot;469769242&quot;:[8226],&quot;469777803&quot;:&quot;left&quot;,&quot;469777804&quot;:&quot;ï‚·&quot;,&quot;469777815&quot;:&quot;hybridMultilevel&quot;}" data-listid="2" role="listitem">
	<p lang="EN-US" paraeid="{244fd7d2-7bf5-4d3c-ac73-354d989cd52a}{7}" paraid="155350428" xml:lang="EN-US">Branded sponsorship of one activation.&nbsp;</p>
	</li>
</ul>

<ul role="list">
	<li aria-setsize="-1" data-aria-level="1" data-aria-posinset="4" data-font="Symbol" data-leveltext="ï‚·" data-list-defn-props="{&quot;335552541&quot;:1,&quot;335559683&quot;:0,&quot;335559684&quot;:-2,&quot;335559685&quot;:720,&quot;335559991&quot;:360,&quot;469769226&quot;:&quot;Symbol&quot;,&quot;469769242&quot;:[8226],&quot;469777803&quot;:&quot;left&quot;,&quot;469777804&quot;:&quot;ï‚·&quot;,&quot;469777815&quot;:&quot;hybridMultilevel&quot;}" data-listid="2" role="listitem">
	<p lang="EN-US" paraeid="{244fd7d2-7bf5-4d3c-ac73-354d989cd52a}{18}" paraid="902478003" xml:lang="EN-US">VIP&nbsp;early access.&nbsp;</p>
	</li>
</ul>

<ul role="list">
	<li aria-setsize="-1" data-aria-level="1" data-aria-posinset="5" data-font="Symbol" data-leveltext="ï‚·" data-list-defn-props="{&quot;335552541&quot;:1,&quot;335559683&quot;:0,&quot;335559684&quot;:-2,&quot;335559685&quot;:720,&quot;335559991&quot;:360,&quot;469769226&quot;:&quot;Symbol&quot;,&quot;469769242&quot;:[8226],&quot;469777803&quot;:&quot;left&quot;,&quot;469777804&quot;:&quot;ï‚·&quot;,&quot;469777815&quot;:&quot;hybridMultilevel&quot;}" data-listid="2" role="listitem">
	<p lang="EN-US" paraeid="{244fd7d2-7bf5-4d3c-ac73-354d989cd52a}{29}" paraid="2123679328" xml:lang="EN-US">Event branded glassware.&nbsp;</p>
	</li>
</ul>

<p lang="EN-US" paraeid="{244fd7d2-7bf5-4d3c-ac73-354d989cd52a}{55}" paraid="1931257856" xml:lang="EN-US">High Noon Sponsor&nbsp;</p>

<p lang="EN-US" paraeid="{244fd7d2-7bf5-4d3c-ac73-354d989cd52a}{62}" paraid="54020060" xml:lang="EN-US">$2,500&nbsp;</p>

<p lang="EN-US" paraeid="{244fd7d2-7bf5-4d3c-ac73-354d989cd52a}{69}" paraid="186606940" xml:lang="EN-US">8 Tickets Included&nbsp;</p>

<ul role="list">
	<li aria-setsize="-1" data-aria-level="1" data-aria-posinset="1" data-font="Symbol" data-leveltext="ï‚·" data-list-defn-props="{&quot;335552541&quot;:1,&quot;335559683&quot;:0,&quot;335559684&quot;:-2,&quot;335559685&quot;:720,&quot;335559991&quot;:360,&quot;469769226&quot;:&quot;Symbol&quot;,&quot;469769242&quot;:[8226],&quot;469777803&quot;:&quot;left&quot;,&quot;469777804&quot;:&quot;ï‚·&quot;,&quot;469777815&quot;:&quot;hybridMultilevel&quot;}" data-listid="3" role="listitem">
	<p lang="EN-US" paraeid="{244fd7d2-7bf5-4d3c-ac73-354d989cd52a}{146}" paraid="587177832" xml:lang="EN-US">Logo recognition on event&nbsp;website, social media, emails, and onscreen at the event.&nbsp;</p>
	</li>
</ul>

<ul role="list">
	<li aria-setsize="-1" data-aria-level="1" data-aria-posinset="2" data-font="Symbol" data-leveltext="ï‚·" data-list-defn-props="{&quot;335552541&quot;:1,&quot;335559683&quot;:0,&quot;335559684&quot;:-2,&quot;335559685&quot;:720,&quot;335559991&quot;:360,&quot;469769226&quot;:&quot;Symbol&quot;,&quot;469769242&quot;:[8226],&quot;469777803&quot;:&quot;left&quot;,&quot;469777804&quot;:&quot;ï‚·&quot;,&quot;469777815&quot;:&quot;hybridMultilevel&quot;}" data-listid="3" role="listitem">
	<p lang="EN-US" paraeid="{244fd7d2-7bf5-4d3c-ac73-354d989cd52a}{165}" paraid="1354544998" xml:lang="EN-US">Each guest receives one event passport to&nbsp;participate&nbsp;in activations and 5 raffle tickets.&nbsp;</p>
	</li>
</ul>

<ul role="list">
	<li aria-setsize="-1" data-aria-level="1" data-aria-posinset="3" data-font="Symbol" data-leveltext="ï‚·" data-list-defn-props="{&quot;335552541&quot;:1,&quot;335559683&quot;:0,&quot;335559684&quot;:-2,&quot;335559685&quot;:720,&quot;335559991&quot;:360,&quot;469769226&quot;:&quot;Symbol&quot;,&quot;469769242&quot;:[8226],&quot;469777803&quot;:&quot;left&quot;,&quot;469777804&quot;:&quot;ï‚·&quot;,&quot;469777815&quot;:&quot;hybridMultilevel&quot;}" data-listid="3" role="listitem">
	<p lang="EN-US" paraeid="{244fd7d2-7bf5-4d3c-ac73-354d989cd52a}{176}" paraid="1163638560" xml:lang="EN-US">Event branded glassware.&nbsp;</p>
	</li>
</ul>

<p lang="EN-US" paraeid="{244fd7d2-7bf5-4d3c-ac73-354d989cd52a}{202}" paraid="1070390675" xml:lang="EN-US">Outlaw Sponsor&nbsp;</p>

<p lang="EN-US" paraeid="{244fd7d2-7bf5-4d3c-ac73-354d989cd52a}{209}" paraid="1069295562" xml:lang="EN-US">$1,000&nbsp;</p>

<p lang="EN-US" paraeid="{0d9e8605-ce07-40e0-a894-3066365dd4fd}{51}" paraid="391185761" xml:lang="EN-US">4 Tickets Included</p>

<ul role="list">
	<li aria-setsize="-1" data-aria-level="1" data-aria-posinset="1" data-font="Symbol" data-leveltext="ï‚·" data-list-defn-props="{&quot;335552541&quot;:1,&quot;335559683&quot;:0,&quot;335559684&quot;:-2,&quot;335559685&quot;:720,&quot;335559991&quot;:360,&quot;469769226&quot;:&quot;Symbol&quot;,&quot;469769242&quot;:[8226],&quot;469777803&quot;:&quot;left&quot;,&quot;469777804&quot;:&quot;ï‚·&quot;,&quot;469777815&quot;:&quot;hybridMultilevel&quot;}" data-listid="4" role="listitem">
	<p lang="EN-US" paraeid="{443fa575-5ba3-4cce-9e44-fc09e9d65699}{45}" paraid="1143424792" xml:lang="EN-US">Logo recognition on event&nbsp;website, social media, emails, and onscreen at the event.&nbsp;</p>
	</li>
</ul>

<ul role="list">
	<li aria-setsize="-1" data-aria-level="1" data-aria-posinset="2" data-font="Symbol" data-leveltext="ï‚·" data-list-defn-props="{&quot;335552541&quot;:1,&quot;335559683&quot;:0,&quot;335559684&quot;:-2,&quot;335559685&quot;:720,&quot;335559991&quot;:360,&quot;469769226&quot;:&quot;Symbol&quot;,&quot;469769242&quot;:[8226],&quot;469777803&quot;:&quot;left&quot;,&quot;469777804&quot;:&quot;ï‚·&quot;,&quot;469777815&quot;:&quot;hybridMultilevel&quot;}" data-listid="4" role="listitem">
	<p lang="EN-US" paraeid="{443fa575-5ba3-4cce-9e44-fc09e9d65699}{64}" paraid="354731652" xml:lang="EN-US">Each guest receives one event passport to&nbsp;participate&nbsp;in activations and 2 raffle tickets.&nbsp;</p>
	</li>
</ul>

<ul role="list">
	<li aria-setsize="-1" data-aria-level="1" data-aria-posinset="3" data-font="Symbol" data-leveltext="ï‚·" data-list-defn-props="{&quot;335552541&quot;:1,&quot;335559683&quot;:0,&quot;335559684&quot;:-2,&quot;335559685&quot;:720,&quot;335559991&quot;:360,&quot;469769226&quot;:&quot;Symbol&quot;,&quot;469769242&quot;:[8226],&quot;469777803&quot;:&quot;left&quot;,&quot;469777804&quot;:&quot;ï‚·&quot;,&quot;469777815&quot;:&quot;hybridMultilevel&quot;}" data-listid="4" role="listitem">
	<p lang="EN-US" paraeid="{443fa575-5ba3-4cce-9e44-fc09e9d65699}{75}" paraid="2147376272" xml:lang="EN-US">Event branded glassware.&nbsp;</p>
	</li>
</ul>

<p lang="EN-US" paraeid="{443fa575-5ba3-4cce-9e44-fc09e9d65699}{101}" paraid="1222098679" style="text-align: center;" xml:lang="EN-US"><strong>Purchase Individual Tickets&nbsp;</strong></p>

<p lang="EN-US" paraeid="{443fa575-5ba3-4cce-9e44-fc09e9d65699}{123}" paraid="808232062" xml:lang="EN-US">Individual Ticket: $150&nbsp;</p>

<ul role="list">
	<li aria-setsize="-1" data-aria-level="1" data-aria-posinset="1" data-font="Symbol" data-leveltext="ï‚·" data-list-defn-props="{&quot;335552541&quot;:1,&quot;335559683&quot;:0,&quot;335559684&quot;:-2,&quot;335559685&quot;:720,&quot;335559991&quot;:360,&quot;469769226&quot;:&quot;Symbol&quot;,&quot;469769242&quot;:[8226],&quot;469777803&quot;:&quot;left&quot;,&quot;469777804&quot;:&quot;ï‚·&quot;,&quot;469777815&quot;:&quot;hybridMultilevel&quot;}" data-listid="5" role="listitem">
	<p lang="EN-US" paraeid="{4e83a053-d86c-485a-a1e7-f5585a828886}{36}" paraid="664544016" xml:lang="EN-US">Admission for one guest&nbsp;</p>
	</li>
</ul>

<ul role="list">
	<li aria-setsize="-1" data-aria-level="1" data-aria-posinset="2" data-font="Symbol" data-leveltext="ï‚·" data-list-defn-props="{&quot;335552541&quot;:1,&quot;335559683&quot;:0,&quot;335559684&quot;:-2,&quot;335559685&quot;:720,&quot;335559991&quot;:360,&quot;469769226&quot;:&quot;Symbol&quot;,&quot;469769242&quot;:[8226],&quot;469777803&quot;:&quot;left&quot;,&quot;469777804&quot;:&quot;ï‚·&quot;,&quot;469777815&quot;:&quot;hybridMultilevel&quot;}" data-listid="5" role="listitem">
	<p lang="EN-US" paraeid="{4e83a053-d86c-485a-a1e7-f5585a828886}{55}" paraid="1645172022" xml:lang="EN-US">One passport granting access to&nbsp;all activations.&nbsp;</p>
	</li>
</ul>

<p lang="EN-US" paraeid="{4e83a053-d86c-485a-a1e7-f5585a828886}{81}" paraid="961415468" xml:lang="EN-US">Pair Tickets: $250&nbsp;</p>

<ul role="list">
	<li aria-setsize="-1" data-aria-level="1" data-aria-posinset="1" data-font="Symbol" data-leveltext="ï‚·" data-list-defn-props="{&quot;335552541&quot;:1,&quot;335559683&quot;:0,&quot;335559684&quot;:-2,&quot;335559685&quot;:720,&quot;335559991&quot;:360,&quot;469769226&quot;:&quot;Symbol&quot;,&quot;469769242&quot;:[8226],&quot;469777803&quot;:&quot;left&quot;,&quot;469777804&quot;:&quot;ï‚·&quot;,&quot;469777815&quot;:&quot;hybridMultilevel&quot;}" data-listid="6" role="listitem">
	<p lang="EN-US" paraeid="{3297c622-0d7f-4e04-9106-e618f09435da}{1}" paraid="295975118" xml:lang="EN-US">Admission for two guests&nbsp;</p>
	</li>
</ul>

<ul role="list">
	<li aria-setsize="-1" data-aria-level="1" data-aria-posinset="2" data-font="Symbol" data-leveltext="ï‚·" data-list-defn-props="{&quot;335552541&quot;:1,&quot;335559683&quot;:0,&quot;335559684&quot;:-2,&quot;335559685&quot;:720,&quot;335559991&quot;:360,&quot;469769226&quot;:&quot;Symbol&quot;,&quot;469769242&quot;:[8226],&quot;469777803&quot;:&quot;left&quot;,&quot;469777804&quot;:&quot;ï‚·&quot;,&quot;469777815&quot;:&quot;hybridMultilevel&quot;}" data-listid="6" role="listitem">
	<p lang="EN-US" paraeid="{3297c622-0d7f-4e04-9106-e618f09435da}{20}" paraid="993675200" xml:lang="EN-US">Two passports (one per guest), granting access to all activations.&nbsp;</p>
	</li>
</ul>

<p lang="EN-US" paraeid="{3297c622-0d7f-4e04-9106-e618f09435da}{46}" paraid="1855075270" style="text-align: center;" xml:lang="EN-US"><strong>Add-Ons&nbsp;</strong></p>

<p lang="EN-US" paraeid="{3297c622-0d7f-4e04-9106-e618f09435da}{53}" paraid="18664551" xml:lang="EN-US">&Agrave; La Carte Raffle Tickets&nbsp;</p>

<p lang="EN-US" paraeid="{3297c622-0d7f-4e04-9106-e618f09435da}{60}" paraid="1116798131" xml:lang="EN-US">$50: 10 Tickets Included&nbsp;</p>

<p lang="EN-US" paraeid="{5ed1b713-7f85-438e-bc83-d7b547de8810}{16}" paraid="2060009758" xml:lang="EN-US">Boost your chances of winning a raffle package by&nbsp;purchasing&nbsp;additional&nbsp;raffle tickets! Each purchase includes 10 raffle tickets.&nbsp;</p>
<br />Location:<br />The Nest at SafeNest <br />3844 Meadows Lane <br />Las Vegas , NV 89107
PRIORITY:3
TRANSP:TRANSPARENT
BEGIN:VALARM
TRIGGER:-PT5M
ACTION:DISPLAY
DESCRIPTION:Reminder
END:VALARM
END:VEVENT
END:VCALENDAR
