BEGIN:VCALENDAR
VERSION:2.0
CALSCALE:GREGORIAN
METHOD:PUBLISH
PRODID://HEND//1417084
BEGIN:VEVENT
DTSTAMP:20260424T143913
VTIMEZONE:America/Los_Angeles
DTSTART:20260318T170000Z
DTEND:20260318T180000Z
UID:1417084
SUMMARY:Doing AI Right: Ethics and Compliance for Small Business Leaders
LOCATION:https://events.stimulustech.com/webinar-doing-ai-right-ethics-compliance/, NV
DESCRIPTION:Doing AI Right: Ethics and Compliance for Small Business Leaders\n\n03/18/26 10:00 AM PST\n - 03/18/26 11:00 AM PST\Description:\nAI is showing up everywhere—emails, proposals, hiring, customer service, and decision support. But if AI is used carelessly, it can create trust problems fast with clients and employees.\n\nIn this practical webinar, Nathan Whittacre (President & CEO, Stimulus Technologies) will walk business leaders through how to adopt AI responsibly. We’ll cover transparency, data use, bias, and decision-making so you can use AI with confidence—without risking privacy, reputation, or compliance headaches.\n\nYou’ll also receive an AI Jumpstart Guide to help you put simple guardrails in place right away.\n\Details:\nEvent Name: Doing AI Right: Ethics and Compliance for Small Business Leaders\nHost/Speaker: Nathan Whittacre, President & CEO, Stimulus Technologies\nDate: March 18\nTime: 10:00 AM Pacific\nFormat: Online webinar (live)\nCost: Free\nLength: 60 minutes (includes Q&A)\nWhat You’ll Learn:\n\n\n	\n	When to be transparent about AI use\n	\n	\n	What data should never go into AI tools\n	\n	\n	How to spot and reduce bias in everyday workflows\n	\n	\n	Where humans must stay accountable for decisions\n	\n\n\Location:\nhttps://events.stimulustech.com/webinar-doing-ai-right-ethics-compliance/\n\n, NV
X-ALT-DESC;FMTTYPE=text/html:Doing AI Right: Ethics and Compliance for Small Business Leaders<br /><br />03/18/26 10:00 AM PST - 03/18/26 11:00 AM PST<br />Description:<br /><p data-end="394" data-start="208">AI is showing up everywhere&mdash;emails, proposals, hiring, customer service, and decision support. But if AI is used carelessly, it can create trust problems fast with clients and employees.</p>

<p data-end="722" data-start="396">In this practical webinar, <strong data-end="484" data-start="423">Nathan Whittacre (President &amp; CEO, Stimulus Technologies)</strong> will walk business leaders through how to adopt AI responsibly. We&rsquo;ll cover <strong data-end="577" data-start="561">transparency</strong>, <strong data-end="591" data-start="579">data use</strong>, <strong data-end="601" data-start="593">bias</strong>, and <strong data-end="626" data-start="607">decision-making</strong> so you can use AI with confidence&mdash;without risking privacy, reputation, or compliance headaches.</p>

<p data-end="824" data-start="724">You&rsquo;ll also receive an <strong data-end="769" data-start="747">AI Jumpstart Guide</strong> to help you put simple guardrails in place right away.</p>
<br />Details:<br /><p data-end="1406" data-start="1079"><strong data-end="1094" data-start="1079">Event Name:</strong> Doing AI Right: Ethics and Compliance for Small Business Leaders<br data-end="1162" data-start="1159" />
<strong data-end="1179" data-start="1162">Host/Speaker:</strong> Nathan Whittacre, President &amp; CEO, Stimulus Technologies<br data-end="1239" data-start="1236" />
<strong data-end="1248" data-start="1239">Date:</strong> March 18<br data-end="1260" data-start="1257" />
<strong data-end="1269" data-start="1260">Time:</strong> 10:00 AM Pacific<br data-end="1289" data-start="1286" />
<strong data-end="1300" data-start="1289">Format:</strong> Online webinar (live)<br data-end="1325" data-start="1322" />
<strong data-end="1334" data-start="1325">Cost:</strong> Free<br data-end="1342" data-start="1339" />
<strong data-end="1353" data-is-only-node="" data-start="1342">Length:</strong> 60 minutes (includes Q&amp;A)<br data-end="1382" data-start="1379" />
<strong data-end="1404" data-start="1382">What You&rsquo;ll Learn:</strong></p>

<ul data-end="1599" data-start="1407">
	<li data-end="1446" data-start="1407">
	<p data-end="1446" data-start="1409">When to be transparent about AI use</p>
	</li>
	<li data-end="1492" data-start="1447">
	<p data-end="1492" data-start="1449">What data should <em data-end="1473" data-start="1466">never</em> go into AI tools</p>
	</li>
	<li data-end="1546" data-start="1493">
	<p data-end="1546" data-start="1495">How to spot and reduce bias in everyday workflows</p>
	</li>
	<li data-end="1599" data-start="1547">
	<p data-end="1599" data-start="1549">Where humans must stay accountable for decisions</p>
	</li>
</ul>
<br />Location:<br />https://events.stimulustech.com/webinar-doing-ai-right-ethics-compliance/<br /><br />, NV 
PRIORITY:3
TRANSP:TRANSPARENT
BEGIN:VALARM
TRIGGER:-PT5M
ACTION:DISPLAY
DESCRIPTION:Reminder
END:VALARM
END:VEVENT
END:VCALENDAR
