BEGIN:VCALENDAR
VERSION:2.0
CALSCALE:GREGORIAN
METHOD:PUBLISH
PRODID://HEND//1417784
BEGIN:VEVENT
DTSTAMP:20260424T143745
VTIMEZONE:America/Los_Angeles
DTSTART:20260326T150000Z
DTEND:20260326T163000Z
UID:1417784
SUMMARY:The Success DNA
LOCATION:https://pages.fireflyeffect.ca/webinar-registration, NV
DESCRIPTION:The Success DNA\n\n03/26/26 08:00 AM PST\n - 03/26/26 09:30 AM PST\Description:\nThe Success DNA\n\nKnow yourself. Be seen. Grow aligned.\n\nFree Workshop Webinar\n\nWednesday, March 26, 2025 | 8:00 AM PST\n\nYou're working harder than ever, but something feels off\n\nYou've been in business for a couple of years. You followed the templates, the trends, the expert advice. You're getting clients... but not the ones you love working with.\n\nYou look at your calendar and feel exhausted instead of excited.\n\nYour business is growing, but it doesn't feel like YOU.\n\nSound familiar?\n\nYou're not alone. And it's not your fault.\n\nThe problem isn't your skills, your product, or your work ethic.\n\nThe problem is misalignment.\n\nThere's a gap between who you are inside and how you're showing up outside. And that gap is costing you energy, income, and joy.\n\nThe Solution Section\n\nThe inside-out, outside-in solution\n\nWhat if you could:\n\n\n	\n	Understand exactly who you are at your core—your natural strengths, thinking style, and operating system?\n	\n	\n	Discover how the world sees you when you're at your best—and learn to communicate in that authentic language?\n	\n	\n	Align both so your business finally feels true to who you are AND attracts the clients you love?\n	\n\n\nThat's exactly what we're teaching in this free webinar.\n\nWhat You'll Learn Section\n\nIn this 75-minute workshop webinar, you'll discover:\n\nFrom Bayina Nala (Syucai Master):\n\n\n	\n	A powerful system of personality types that explains why people think differently and make different decisions\n	\n	\n	How to recognize personality patterns in yourself and others to reduce conflict and improve communication\n	\n	\n	Why certain business strategies drain you while others energize you—and how to redesign around your natural design\n	\n\n\nFrom Louise Taylor (Certified Fascinate Advisor):\n\n\n	\n	How the world perceives you when you're at your best—and why your current brand might not reflect that\n	\n	\n	The "different is better than better" principle that stops you from competing and starts you standing out\n	\n	\n	How to communicate in YOUR authentic language to attract ideal clients naturally\n	\n\n\nTogether: The Alignment Formula\n\n\n	\n	How combining inner code (Syucai) + outer perception (Fascinate) creates magnetic authenticity\n	\n	\n	The exact transformation pathway we use with clients to go from "I have to" to "I get to"\n	\n	\n	An exclusive invitation to our 6-week Success DNA transformation program (founding cohort only)\n	\n\n\nReady to close the gap?\n\nJoin us for this free workshop webinar and discover your Success DNA.\n\n \Details:\nFree Workshop Webinar\Location:\nhttps://pages.fireflyeffect.ca/webinar-registration\n\n, NV
X-ALT-DESC;FMTTYPE=text/html:The Success DNA<br /><br />03/26/26 08:00 AM PST - 03/26/26 09:30 AM PST<br />Description:<br /><h2 dir="ltr">The Success DNA</h2>

<h3 dir="ltr">Know yourself. Be seen. Grow aligned.</h3>

<p dir="ltr">Free Workshop Webinar</p>

<p dir="ltr">Wednesday, March 26, 2025 | 8:00 AM PST</p>

<h3 dir="ltr">You're working harder than ever, but something feels off</h3>

<p dir="ltr">You've been in business for a couple of years. You followed the templates, the trends, the expert advice. You're getting clients... but not the ones you love working with.</p>

<p dir="ltr">You look at your calendar and feel exhausted instead of excited.</p>

<p dir="ltr">Your business is growing, but it doesn't feel like YOU.</p>

<p dir="ltr">Sound familiar?</p>

<p dir="ltr">You're not alone. And it's not your fault.</p>

<p dir="ltr">The problem isn't your skills, your product, or your work ethic.</p>

<p dir="ltr">The problem is misalignment.</p>

<p dir="ltr">There's a gap between who you are inside and how you're showing up outside. And that gap is costing you energy, income, and joy.</p>

<h3 dir="ltr">The Solution Section</h3>

<h3 dir="ltr">The inside-out, outside-in solution</h3>

<p dir="ltr">What if you could:</p>

<ul>
	<li aria-level="1" dir="ltr">
	<p dir="ltr" role="presentation">Understand exactly who you are at your core&mdash;your natural strengths, thinking style, and operating system?</p>
	</li>
	<li aria-level="1" dir="ltr">
	<p dir="ltr" role="presentation">Discover how the world sees you when you're at your best&mdash;and learn to communicate in that authentic language?</p>
	</li>
	<li aria-level="1" dir="ltr">
	<p dir="ltr" role="presentation">Align both so your business finally feels true to who you are AND attracts the clients you love?</p>
	</li>
</ul>

<p dir="ltr">That's exactly what we're teaching in this free webinar.</p>

<h3 dir="ltr">What You'll Learn Section</h3>

<h3 dir="ltr">In this 75-minute workshop webinar, you'll discover:</h3>

<p dir="ltr">From Bayina Nala (Syucai Master):</p>

<ul>
	<li aria-level="1" dir="ltr">
	<p dir="ltr" role="presentation">A powerful system of personality types that explains why people think differently and make different decisions</p>
	</li>
	<li aria-level="1" dir="ltr">
	<p dir="ltr" role="presentation">How to recognize personality patterns in yourself and others to reduce conflict and improve communication</p>
	</li>
	<li aria-level="1" dir="ltr">
	<p dir="ltr" role="presentation">Why certain business strategies drain you while others energize you&mdash;and how to redesign around your natural design</p>
	</li>
</ul>

<p dir="ltr">From Louise Taylor (Certified Fascinate Advisor):</p>

<ul>
	<li aria-level="1" dir="ltr">
	<p dir="ltr" role="presentation">How the world perceives you when you're at your best&mdash;and why your current brand might not reflect that</p>
	</li>
	<li aria-level="1" dir="ltr">
	<p dir="ltr" role="presentation">The &quot;different is better than better&quot; principle that stops you from competing and starts you standing out</p>
	</li>
	<li aria-level="1" dir="ltr">
	<p dir="ltr" role="presentation">How to communicate in YOUR authentic language to attract ideal clients naturally</p>
	</li>
</ul>

<p dir="ltr">Together: The Alignment Formula</p>

<ul>
	<li aria-level="1" dir="ltr">
	<p dir="ltr" role="presentation">How combining inner code (Syucai) + outer perception (Fascinate) creates magnetic authenticity</p>
	</li>
	<li aria-level="1" dir="ltr">
	<p dir="ltr" role="presentation">The exact transformation pathway we use with clients to go from &quot;I have to&quot; to &quot;I get to&quot;</p>
	</li>
	<li aria-level="1" dir="ltr">
	<p dir="ltr" role="presentation">An exclusive invitation to our 6-week Success DNA transformation program (founding cohort only)</p>
	</li>
</ul>

<h3 dir="ltr">Ready to close the gap?</h3>

<p dir="ltr">Join us for this free workshop webinar and discover your Success DNA.</p>
<br />
&nbsp;<br />Details:<br />Free Workshop Webinar<br />Location:<br />https://pages.fireflyeffect.ca/webinar-registration<br /><br />, NV 
PRIORITY:3
TRANSP:TRANSPARENT
BEGIN:VALARM
TRIGGER:-PT5M
ACTION:DISPLAY
DESCRIPTION:Reminder
END:VALARM
END:VEVENT
END:VCALENDAR
