BEGIN:VCALENDAR
VERSION:2.0
CALSCALE:GREGORIAN
METHOD:PUBLISH
PRODID://HEND//1417787
BEGIN:VEVENT
DTSTAMP:20260424T160311
VTIMEZONE:America/Los_Angeles
DTSTART:20260417T000000Z
DTEND:20260420T000000Z
UID:1417787
SUMMARY:Home + History Las Vegas presented by the Nevada Preservation Foundation 
LOCATION:Various locations throughout Las Vegas and Henderson , NV
DESCRIPTION:Home + History Las Vegas presented by the Nevada Preservation Foundation \n\n04/16/26 05:00 PM PST\n - 04/19/26 05:00 PM PST\Description:\nHeritage Tourism Festival ‘Home + History Las Vegas’ Returns for 11th Year with Events April 16-19, 2026 \n\nâ€¯Las Vegas’ past takes center stage once again this spring when the 11th annual Home + History Las Vegas transforms the valley into a four-day celebration of architecture, culture, and community. Presented by the Nevada Preservation Foundation (NPF), the 2026 festival is scheduled for April 16 - 19 with new and returning tours and programs, inviting locals and visitors to explore the people, places, and ideas that shaped Southern Nevada. \n\nBuilding on a decade of celebrating the valley’s architectural legacy and cultural evolution, this year’s festival will feature more than 35 curated experiences, with several new events debuting in 2026. From guided neighborhood walks and immersive home tours to educational workshops, scenic strolls, and special evening programs, Home + History invites participants to discover a Las Vegas rarely seen for a better understanding on why preservation is so important.  \n\nEvent tickets start at $35 and are on sale now. Explore the complete roster of tours, talks, and rare-access experiences at https://nevadapreservation.org/home-history-las-vegas/. \n\Details:\nEvent tickets start at $35 and are on sale now \Location:\nVarious locations throughout Las Vegas and Henderson \n\n, NV
X-ALT-DESC;FMTTYPE=text/html:Home + History Las Vegas presented by the Nevada Preservation Foundation <br /><br />04/16/26 05:00 PM PST - 04/19/26 05:00 PM PST<br />Description:<br /><p paraeid="{827180a2-00aa-4e86-80f2-668b739d42e4}{36}" paraid="781795761">Heritage Tourism Festival &lsquo;Home + History Las Vegas&rsquo; Returns for 11th Year&nbsp;with Events April 16-19, 2026&nbsp;</p>

<p paraeid="{827180a2-00aa-4e86-80f2-668b739d42e4}{40}" paraid="1609201158">â€¯Las&nbsp;Vegas&rsquo; past&nbsp;takes center stage once again this spring when the 11th&nbsp;annual Home&nbsp;+&nbsp;History&nbsp;Las&nbsp;Vegas transforms the valley into a four-day celebration of architecture, culture, and community. Presented by the&nbsp;Nevada Preservation Foundation&nbsp;(NPF), the 2026 festival is scheduled for April 16&nbsp;-&nbsp;19 with new and returning tours and programs, inviting locals and visitors to explore the people, places, and ideas that shaped Southern Nevada.&nbsp;</p>

<p paraeid="{827180a2-00aa-4e86-80f2-668b739d42e4}{44}" paraid="1492499579">Building on a decade of celebrating the valley&rsquo;s architectural legacy and cultural evolution, this year&rsquo;s&nbsp;festival&nbsp;will feature more than 35 curated experiences, with several new events debuting in&nbsp;2026. From guided neighborhood walks and immersive home tours to educational workshops, scenic strolls, and special evening programs, Home + History invites participants to discover a Las Vegas rarely seen for a better understanding on why preservation is so important.&nbsp;&nbsp;</p>

<p paraeid="{827180a2-00aa-4e86-80f2-668b739d42e4}{47}" paraid="1807001673">Event&nbsp;tickets start at&nbsp;$35&nbsp;and are on sale now.&nbsp;Explore the complete roster of tours, talks, and rare-access experiences at&nbsp;<a href="https://nevadapreservation.org/home-history-las-vegas/" rel="noreferrer noopener" target="_blank">https://nevadapreservation.org/home-history-las-vegas/</a>.&nbsp;</p>
<br />Details:<br />Event tickets start at&nbsp;$35&nbsp;and are on sale now&nbsp;<br />Location:<br />Various locations throughout Las Vegas and Henderson <br /><br />, NV 
PRIORITY:3
TRANSP:TRANSPARENT
BEGIN:VALARM
TRIGGER:-PT5M
ACTION:DISPLAY
DESCRIPTION:Reminder
END:VALARM
END:VEVENT
END:VCALENDAR
