BEGIN:VCALENDAR
VERSION:2.0
CALSCALE:GREGORIAN
METHOD:PUBLISH
PRODID://HEND//1417788
BEGIN:VEVENT
DTSTAMP:20260424T000346
VTIMEZONE:America/Los_Angeles
DTSTART:20260503T210000Z
DTEND:20260504T000000Z
UID:1417788
SUMMARY:S.A.F.E. House Pickleball Tournament 
LOCATION:Chicken N Pickle, 3381 Saint Rose Parkway, Henderson, NV, 89052
DESCRIPTION:S.A.F.E. House Pickleball Tournament \n\n05/03/26 02:00 PM PST\n - 05/03/26 05:00 PM PST\Description:\nDinking for a Difference: Benefiting S.A.F.E. House in Henderson! \n\nJoin us for Dinking for a Difference, an excitingâ€¯pickleballâ€¯tournament at Chicken N Pickle! Teams will compete for prizes and bragging rights, and guests can take part in a raffle featuring great prizes. Whether you’re playing on the court or cheering from the sidelines, this event promises fun, friendly competition, and a meaningful way to support families in our community. \n\nTournament Participant tickets are $100 per person while Spectator tickets are $50 per person. All ticket holders will receive an exclusive event-branded t-shirt and food as part of their registration. Proceeds from the tournament will benefit S.A.F.E. House and help provide safety, shelter, and supportive services to survivors of domestic violence and their children.  \n\nS.A.F.E. House is a community based non-profit organization committed to Stop Abuse in the Family Environment by providing a comprehensive approach to end domestic violence that includes crisis intervention, safe shelter, counseling, advocacy, and community education. If you are someone you know is a victim of domestic violence, please call our 24/7 crisis hotline at 702-564-3227. To learn more about S.A.F.E. House and its services, visit www.safehousenv.org. \n\Details:\n$100 Single Player; $50 Spectator Ticketâ€¯ \Location:\nChicken N Pickle\n3381 Saint Rose Parkway\nHenderson, NV 89052
X-ALT-DESC;FMTTYPE=text/html:S.A.F.E. House Pickleball Tournament <br /><br />05/03/26 02:00 PM PST - 05/03/26 05:00 PM PST<br />Description:<br /><p paraeid="{cf16f01a-4954-4516-9ff0-093089335f2f}{40}" paraid="1400503496">Dinking for a Difference:&nbsp;Benefiting&nbsp;S.A.F.E. House in Henderson!&nbsp;</p>

<p paraeid="{cf16f01a-4954-4516-9ff0-093089335f2f}{42}" paraid="165894676">Join us for Dinking for a Difference, an excitingâ€¯pickleballâ€¯tournament at Chicken N Pickle!&nbsp;Teams will compete for prizes and bragging rights, and guests can take part in a raffle featuring great prizes.&nbsp;Whether&nbsp;you&rsquo;re&nbsp;playing on the court or cheering from the sidelines, this event promises fun, friendly competition, and a meaningful way to support families in our community.&nbsp;</p>

<p paraeid="{cf16f01a-4954-4516-9ff0-093089335f2f}{47}" paraid="668111157">Tournament Participant&nbsp;tickets are&nbsp;$100&nbsp;per&nbsp;person&nbsp;while&nbsp;Spectator tickets&nbsp;are&nbsp;$50&nbsp;per person. All ticket holders will receive an exclusive event-branded t-shirt and food as part of their registration.&nbsp;Proceeds from the tournament will&nbsp;benefit&nbsp;S.A.F.E. House and help provide safety, shelter, and supportive services to survivors of domestic violence and their children.&nbsp;&nbsp;</p>

<p paraeid="{cf16f01a-4954-4516-9ff0-093089335f2f}{51}" paraid="25659723">S.A.F.E. House is a community based non-profit organization committed to Stop Abuse in the Family Environment by providing a comprehensive approach to end domestic violence that includes crisis intervention, safe shelter, counseling, advocacy, and community education.&nbsp;If you are someone you know is a victim of domestic violence, please call our 24/7 crisis hotline at 702-564-3227.&nbsp;To learn more about S.A.F.E. House&nbsp;and its services,&nbsp;visit&nbsp;<a href="http://www.safehousenv.org/" rel="noreferrer noopener" target="_blank">www.safehousenv.org</a>.&nbsp;</p>
<br />Details:<br />$100&nbsp;Single Player; $50&nbsp;Spectator Ticketâ€¯&nbsp;<br />Location:<br />Chicken N Pickle<br />3381 Saint Rose Parkway<br />Henderson, NV 89052
PRIORITY:3
TRANSP:TRANSPARENT
BEGIN:VALARM
TRIGGER:-PT5M
ACTION:DISPLAY
DESCRIPTION:Reminder
END:VALARM
END:VEVENT
END:VCALENDAR
