BEGIN:VCALENDAR
VERSION:2.0
CALSCALE:GREGORIAN
METHOD:PUBLISH
PRODID://HEND//1428065
BEGIN:VEVENT
DTSTAMP:20260422T014431
VTIMEZONE:America/Los_Angeles
DTSTART:20260425T160000Z
DTEND:20260425T210000Z
UID:1428065
SUMMARY:Community Block Party
LOCATION:Staples, 675 S Green Valley Pkwy, Henderson, NV, 89052
DESCRIPTION:Community Block Party\n\n04/25/26 09:00 AM PST\n - 04/25/26 02:00 PM PST\Description:\nStaples is hosting a Community Block Party on 4/25/2026 from 9am-2 pm .  We are celebrating the launch of Party City inside of our Staples Store.\Details:\nStaples is hosting a Community Block Party on 4/25/2026 from 9am-2 pm .  We are celebrating the launch of Party City inside of our Staples store.  We are looking for any Chamber members who would like to set up a table at our event.  It's free to come join our Party .  Please contact Laura or Victoria at 702-564-2014 if you are interested \Location:\nStaples\n675 S Green Valley Pkwy\nHenderson, NV 89052
X-ALT-DESC;FMTTYPE=text/html:Community Block Party<br /><br />04/25/26 09:00 AM PST - 04/25/26 02:00 PM PST<br />Description:<br />Staples is hosting a Community Block Party on 4/25/2026 from 9am-2 pm .&nbsp; We are celebrating the launch of Party City inside of our Staples Store.<br />Details:<br />Staples is hosting a Community Block Party on 4/25/2026 from 9am-2 pm .&nbsp; We are celebrating the launch of Party City inside of our Staples store.&nbsp; We are looking for any Chamber members who would like to set up a table at our event.&nbsp; It's free to come join our Party .&nbsp; Please contact Laura or Victoria at 702-564-2014 if you are interested&nbsp;<br />Location:<br />Staples<br />675 S Green Valley Pkwy<br />Henderson, NV 89052
PRIORITY:3
TRANSP:TRANSPARENT
BEGIN:VALARM
TRIGGER:-PT5M
ACTION:DISPLAY
DESCRIPTION:Reminder
END:VALARM
END:VEVENT
END:VCALENDAR
