BEGIN:VCALENDAR
VERSION:2.0
CALSCALE:GREGORIAN
METHOD:PUBLISH
PRODID://HEND//1428073
BEGIN:VEVENT
DTSTAMP:20260422T012834
VTIMEZONE:America/Los_Angeles
DTSTART:20260516T140000Z
DTEND:20260516T230000Z
UID:1428073
SUMMARY:Las Vegas Rotary "A Community Day in the Park"
LOCATION:Springs Preserve, 333 S Valley View Blvd., Las Vegas, NV, 89107
DESCRIPTION:Las Vegas Rotary "A Community Day in the Park"\n\n05/16/26 07:00 AM PST\n - 05/16/26 04:00 PM PST\Description:\nCommunity Day to celebrate the USA's 250th Birthday\nAdmission includes:\nFull Day Park Access\nPrivate area at outdoor Amphitheater\nFun Run/Walk, 7:30am adults only, 8:30am Adults with Children\nPancake Breakfast, 9:00am-11:00am\nMusic and Dance\nKids Games and Crafts, 8:00am-to 11:00am\nVendor and Community Booths to Explore\Details:\nA Community Celebration of America's 250th Birthday\nTicket Prices:\n\nAdults:\nPre-sale (until April17, 2026)  $35.00, After April 17th $45.00\nChildren:3-17:\nPre-sale (until April17, 2026)  $5.00, After April 17th $8.00\nTickets are available through the Las Vegas Rotary Club and Coming Soon, \nOnline Tickets available through www.LasVegasRotary.com\n \Location:\nSprings Preserve\n333 S Valley View Blvd.\nLas Vegas, NV 89107
X-ALT-DESC;FMTTYPE=text/html:Las Vegas Rotary "A Community Day in the Park"<br /><br />05/16/26 07:00 AM PST - 05/16/26 04:00 PM PST<br />Description:<br />Community Day to celebrate the USA's 250th Birthday<br />
Admission includes:<br />
Full Day Park Access<br />
Private area at outdoor Amphitheater<br />
Fun Run/Walk, 7:30am adults only, 8:30am Adults with Children<br />
Pancake Breakfast, 9:00am-11:00am<br />
Music and Dance<br />
Kids Games and Crafts, 8:00am-to 11:00am<br />
Vendor and Community Booths to Explore<br />Details:<br />A Community Celebration of America's 250th Birthday<br />
Ticket Prices:<br />
<br />
Adults:<br />
Pre-sale (until April17, 2026)&nbsp; $35.00, After April 17th $45.00<br />
Children:3-17:<br />
Pre-sale (until April17, 2026)&nbsp; $5.00, After April 17th $8.00<br />
Tickets are available through the Las Vegas Rotary Club and <strong>Coming Soon</strong>,&nbsp;<br />
Online Tickets available through www.LasVegasRotary.com<br />
&nbsp;<br />Location:<br />Springs Preserve<br />333 S Valley View Blvd.<br />Las Vegas, NV 89107
PRIORITY:3
TRANSP:TRANSPARENT
BEGIN:VALARM
TRIGGER:-PT5M
ACTION:DISPLAY
DESCRIPTION:Reminder
END:VALARM
END:VEVENT
END:VCALENDAR
