BEGIN:VCALENDAR
VERSION:2.0
CALSCALE:GREGORIAN
METHOD:PUBLISH
PRODID://HEND//1428074
BEGIN:VEVENT
DTSTAMP:20260422T012904
VTIMEZONE:America/Los_Angeles
DTSTART:20260519T220000Z
DTEND:20260520T000000Z
UID:1428074
SUMMARY:Business Strategy Workshop: SWOT Analysis Pilot 
LOCATION:HCC Launchpad, 112 S. Water Street, Henderson, NV, 89015
DESCRIPTION:Business Strategy Workshop: SWOT Analysis Pilot \n\n05/19/26 03:00 PM PST\n - 05/19/26 05:00 PM PST\Description:\nBusiness Strategy Session — SWOT Pilot Class\n\nPresented by JH Consultant LLC in Partnership with Guaranteed Payroll Solutions\n\nAre you running your business — or is your business running you? Join business strategist and HR consultant Jocelyn Hernandez for an interactive, hands-on workshop designed for business owners ready to think strategically. You'll learn how to use the SWOT framework — Strengths, Weaknesses, Opportunities, and Threats — to evaluate your business from the inside out. Walk away with a completed SWOT analysis customized to your business, actionable strategies to strengthen your operations, and a framework you can revisit quarterly to stay ahead of the curve. Whether you're a small business owner, entrepreneur, or startup founder, this session will help you move from reactive decision-making to proactive, strategic leadership.\n\nTuesday, May 19, 2025 | 3:00–5:00 PM\nHCC Launchpad, 112 S Water St, Henderson, NV 89015\n$25 Pilot Launch Rate (a $250 Value) | Only 25 Seats Available\nðŸ“ž RSVP: (702) 400-7882 — Jocelyn Hernandez\n\nDon't just work in your business — learn to work ON your business.\Details:\nRSVP to Jocelyn Hernandez @ 7024007882\nCost: $25.00 Pilot Program Rate - Zelle Payments Accepted \Location:\nHCC Launchpad\n112 S. Water Street\nHenderson, NV 89015
X-ALT-DESC;FMTTYPE=text/html:Business Strategy Workshop: SWOT Analysis Pilot <br /><br />05/19/26 03:00 PM PST - 05/19/26 05:00 PM PST<br />Description:<br />Business Strategy Session &mdash; SWOT Pilot Class<br />
<br />
Presented by JH Consultant LLC in Partnership with Guaranteed Payroll Solutions<br />
<br />
Are you running your business &mdash; or is your business running you? Join business strategist and HR consultant Jocelyn Hernandez for an interactive, hands-on workshop designed for business owners ready to think strategically. You'll learn how to use the SWOT framework &mdash; Strengths, Weaknesses, Opportunities, and Threats &mdash; to evaluate your business from the inside out. Walk away with a completed SWOT analysis customized to your business, actionable strategies to strengthen your operations, and a framework you can revisit quarterly to stay ahead of the curve. Whether you're a small business owner, entrepreneur, or startup founder, this session will help you move from reactive decision-making to proactive, strategic leadership.<br />
<br />
Tuesday, May 19, 2025 | 3:00&ndash;5:00 PM<br />
HCC Launchpad, 112 S Water St, Henderson, NV 89015<br />
$25 Pilot Launch Rate (a $250 Value) | Only 25 Seats Available<br />
ðŸ“ž RSVP: (702) 400-7882 &mdash; Jocelyn Hernandez<br />
<br />
Don't just work in your business &mdash; learn to work ON your business.<br />Details:<br />RSVP to Jocelyn Hernandez @ 7024007882<br />
Cost: $25.00 Pilot Program Rate - Zelle Payments Accepted&nbsp;<br />Location:<br />HCC Launchpad<br />112 S. Water Street<br />Henderson, NV 89015
PRIORITY:3
TRANSP:TRANSPARENT
BEGIN:VALARM
TRIGGER:-PT5M
ACTION:DISPLAY
DESCRIPTION:Reminder
END:VALARM
END:VEVENT
END:VCALENDAR
