BEGIN:VCALENDAR
VERSION:2.0
CALSCALE:GREGORIAN
METHOD:PUBLISH
PRODID://HEND//1428075
BEGIN:VEVENT
DTSTAMP:20260422T012904
VTIMEZONE:America/Los_Angeles
DTSTART:20260520T160000Z
DTEND:20260520T190000Z
UID:1428075
SUMMARY:GreenDrop Donation Center's TWO Ribbon Cuttings
LOCATION:GreenDrop Donation Center, 210 North Boulder Highway, Henderson, NV, 89015
DESCRIPTION:GreenDrop Donation Center's TWO Ribbon Cuttings\n\n05/20/26 09:00 AM PST\n - 05/20/26 12:00 PM PST\Description:\nGreenDrop® donation centers offer the surrounding community a place to donate gently used clothing and household items they no longer need to Big Brothers Big Sisters of Southern Nevada. GreenDrop® is a for-profit company accepting these items on behalf of Big Brother Big Sisters, paying them for the goods, helping to fund their critical programs for youth in the community. Those items are then made available for purchase in secondhand thrift stores or wholesale markets, helping to keep reusable items out of landfills. GreenDrop is good for everyone! Open daily from 8:30 am to 5pm. PLEASE JOIN US FOR THESE TWO RIBBON CUTTING CELEBRATIONS! The more the merrier! Refreshments will be served! Please consider bringing a donation bag!\n \Details:\nGreenDrop donation center's ribbon cutting celebration with Big Brothers Big Sister of Southern Nevada. Refreshments will be served. Attendees are encouraged to bring a donation bag of gently used clothing and/or housewares. \nOF NOTE: there will be TWO GreenDrop ribbon cuttings on 5/20/26! THE FIRST is at 9 am at 850 S. Rancho Drive, Las Vegas, NV 89107 (in the Smith's parking lot near Starbucks in the Rancho Towne & Country shopping center), the SECOND is at 11 am at 210 North Boulder Highway (unit 160), Henderson, NV 89015 (located in the Lake Mead Gateway Plaza by Albertson's). \Location:\nGreenDrop Donation Center\n210 North Boulder Highway\nHenderson, NV 89015
X-ALT-DESC;FMTTYPE=text/html:GreenDrop Donation Center's TWO Ribbon Cuttings<br /><br />05/20/26 09:00 AM PST - 05/20/26 12:00 PM PST<br />Description:<br />GreenDrop&reg; donation centers offer the surrounding community a place to donate gently used clothing and household items they no longer need to Big Brothers Big Sisters of Southern Nevada. GreenDrop&reg; is a for-profit company accepting these items on behalf of Big Brother Big Sisters, paying them for the goods, helping to fund their critical programs for youth in the community. Those items are then made available for purchase in secondhand thrift stores or wholesale markets, helping to keep reusable items out of landfills. GreenDrop is good for everyone! Open daily from 8:30 am to 5pm. PLEASE JOIN US FOR THESE TWO RIBBON CUTTING CELEBRATIONS! The more the merrier! Refreshments will be served! Please consider bringing a donation bag!<br />
&nbsp;<br />Details:<br />GreenDrop donation center's ribbon cutting celebration with Big Brothers Big Sister of Southern Nevada. Refreshments will be served. Attendees are encouraged to bring a donation bag of gently used clothing and/or housewares.&nbsp;<br />
OF NOTE: there will be TWO GreenDrop ribbon cuttings on 5/20/26! THE FIRST is at 9 am at 850 S. Rancho Drive, Las Vegas, NV 89107 (in the Smith's parking lot near Starbucks in the Rancho Towne &amp; Country shopping center), the SECOND is at 11 am at 210 North Boulder Highway (unit 160), Henderson, NV 89015 (located in the Lake Mead Gateway Plaza by Albertson's).&nbsp;<br />Location:<br />GreenDrop Donation Center<br />210 North Boulder Highway<br />Henderson, NV 89015
PRIORITY:3
TRANSP:TRANSPARENT
BEGIN:VALARM
TRIGGER:-PT5M
ACTION:DISPLAY
DESCRIPTION:Reminder
END:VALARM
END:VEVENT
END:VCALENDAR
