BEGIN:VCALENDAR
VERSION:2.0
CALSCALE:GREGORIAN
METHOD:PUBLISH
PRODID://HEND//1428076
BEGIN:VEVENT
DTSTAMP:20260422T030941
VTIMEZONE:America/Los_Angeles
DTSTART:20260523T170000Z
DTEND:20260523T190000Z
UID:1428076
SUMMARY:Fallen Heroes Memorial Day Weekend Ceremony 
LOCATION:Palm Henderson Cemetery, 800 South Boulder Highway, Henderson, NV, 98015
DESCRIPTION:Fallen Heroes Memorial Day Weekend Ceremony \n\n05/23/26 10:00 AM PST\n - 05/23/26 12:00 PM PST\Description:\nFREE event for our Henderson Community, honoring our Fallen Heroes on Memorial Day Weekend.\n\nAll branches of the military will be recognized through special events. Patriotic music, traditions and guest speakers.\n\nVeteran support interchange with various resources open after the ceremonies.\Details:\n"Greater love hath no man than this, that a man lay down his life for his friends."\n\nPalm Henderson is grateful for the opportunity to continue the tradition of hosting this annual event for our Fallen Heroes. Freedom is not free.\n\nFree refreshments served after the ceremonies and free mementos while supplies last at the Veteran Resource Fair in the Palm Chapel, after the ceremonies. .. \n\nYou are encouraged to wear Patriotic attire, if so desired.\Location:\nPalm Henderson Cemetery\n800 South Boulder Highway\nHenderson, NV 98015
X-ALT-DESC;FMTTYPE=text/html:Fallen Heroes Memorial Day Weekend Ceremony <br /><br />05/23/26 10:00 AM PST - 05/23/26 12:00 PM PST<br />Description:<br />FREE event for our Henderson Community, honoring our Fallen Heroes on Memorial Day Weekend.<br />
<br />
All branches of the military&nbsp;will be recognized through special events. Patriotic music, traditions and guest speakers.<br />
<br />
Veteran support interchange with various resources open after the ceremonies.<br />Details:<br />&quot;Greater love hath no man than this, that a man lay down his life for his friends.&quot;<br />
<br />
Palm Henderson is grateful for the opportunity to continue the tradition of hosting this annual event for our Fallen Heroes. Freedom&nbsp;is not free.<br />
<br />
Free refreshments served after the ceremonies and free mementos while supplies last&nbsp;at the Veteran Resource Fair in the Palm Chapel, after the ceremonies. ..&nbsp;<br />
<br />
You are encouraged to wear Patriotic attire, if so desired.<br />Location:<br />Palm Henderson Cemetery<br />800 South Boulder Highway<br />Henderson, NV 98015
PRIORITY:3
TRANSP:TRANSPARENT
BEGIN:VALARM
TRIGGER:-PT5M
ACTION:DISPLAY
DESCRIPTION:Reminder
END:VALARM
END:VEVENT
END:VCALENDAR
