BEGIN:VCALENDAR
VERSION:2.0
CALSCALE:GREGORIAN
METHOD:PUBLISH
PRODID://HEND//1428077
BEGIN:VEVENT
DTSTAMP:20260422T061510
VTIMEZONE:America/Los_Angeles
DTSTART:20260711T010000Z
DTEND:20260711T030000Z
UID:1428077
SUMMARY:Sip and Support
LOCATION:Echelon Event Center, 3495 E Flamingo Rd, Las Vegas, NV, 89121
DESCRIPTION:Sip and Support\n\n07/10/26 06:00 PM PST\n - 07/10/26 08:00 PM PST\Description:\nJoin us for a wine tasting and food pairing evening as we support East Valley Family Services and our mission to fostering healthy, responsible and self-sufficient families in the community.\Details:\nJoin us for our annual Sip and Support — a wine tasting fundraiser happening on Friday, July 10th at the beautiful Echelon Event Center in Las Vegas. This fundraiser will bring an evening of exquisite wines by the Cask, delectable food pairings by Masterpiece Cuisine, live music by DJ Jalapeno, various raffles and games and the opportunity to support East Valley Family Services and our mission to fostering healthy, responsible and self-sufficient families in the community.\nðŸ· Wine tastings by The Cask\nðŸ§€ Pairings by Masterpiece Cuisine\nðŸŽ¶ Music by DJ Jalapeño\nðŸ¾ Our Luck of the Pour pull\nðŸŽ Raffle baskets with great prizes\nIf you’d like to join us or explore a sponsorship opportunity, I’ve attached our link to get your tickets and you can also email kacy@evfs.org or reinal@evfs.org for more info!\nðŸ‘‰ Sip and Support | BetterWorld  \Location:\nEchelon Event Center\n3495 E Flamingo Rd\nLas Vegas, NV 89121
X-ALT-DESC;FMTTYPE=text/html:Sip and Support<br /><br />07/10/26 06:00 PM PST - 07/10/26 08:00 PM PST<br />Description:<br />Join us for a wine tasting and food pairing&nbsp;evening as we support&nbsp;East Valley Family Services&nbsp;and&nbsp;our mission to fostering healthy, responsible&nbsp;and&nbsp;self-sufficient families in the community.<br />Details:<br />Join us for our annual&nbsp;<strong>Sip&nbsp;and&nbsp;Support</strong>&nbsp;&mdash;&nbsp;a wine tasting fundraiser happening on&nbsp;<strong>Friday, July 10th</strong>&nbsp;at the beautiful&nbsp;<strong>Echelon Event Center</strong>&nbsp;in Las Vegas. This fundraiser will bring an evening of exquisite wines by the Cask, delectable food pairings by Masterpiece Cuisine, live music by DJ Jalapeno, various raffles&nbsp;and&nbsp;games&nbsp;and&nbsp;the opportunity to&nbsp;support&nbsp;East Valley Family Services&nbsp;and&nbsp;our mission to fostering healthy, responsible&nbsp;and&nbsp;self-sufficient families in the community.<br />
ðŸ·&nbsp;Wine tastings by<strong><em>&nbsp;The Cask</em></strong><br />
ðŸ§€&nbsp;Pairings by&nbsp;<strong><em>Masterpiece Cuisine</em></strong><br />
ðŸŽ¶&nbsp;Music by<strong><em>&nbsp;DJ Jalape&ntilde;o</em></strong><br />
ðŸ¾&nbsp;Our&nbsp;<strong><em>Luck of the Pour</em></strong>&nbsp;pull<br />
ðŸŽ&nbsp;Raffle baskets with great prizes<br />
If you&rsquo;d like to join us or explore a&nbsp;sponsorship&nbsp;opportunity, I&rsquo;ve attached our link to&nbsp;get your tickets and you can also email kacy@evfs.org or reinal@evfs.org for more info!<br />
ðŸ‘‰&nbsp;<a data-auth="NotApplicable" data-linkindex="0" href="https://evfs.betterworld.org/events/sip-support" id="OWAe768c950-a9f8-5634-1423-bf61cbd37bab" title="https://evfs.betterworld.org/events/sip-support"><u>Sip&nbsp;and&nbsp;Support&nbsp;| BetterWorld</u></a>&nbsp;&nbsp;<br />Location:<br />Echelon Event Center<br />3495 E Flamingo Rd<br />Las Vegas, NV 89121
PRIORITY:3
TRANSP:TRANSPARENT
BEGIN:VALARM
TRIGGER:-PT5M
ACTION:DISPLAY
DESCRIPTION:Reminder
END:VALARM
END:VEVENT
END:VCALENDAR
