BEGIN:VCALENDAR
VERSION:2.0
CALSCALE:GREGORIAN
METHOD:PUBLISH
PRODID://HEND//1428173
BEGIN:VEVENT
DTSTAMP:20260422T013005
VTIMEZONE:America/Los_Angeles
DTSTART:20260425T180000Z
DTEND:20260425T210000Z
UID:1428173
SUMMARY:Healthy Kids of Nevada Community Launch Event
LOCATION:Kids Are Us Academy, 2760 S. Jones Blvd., Las Vegas, NV, 890146
DESCRIPTION:Healthy Kids of Nevada Community Launch Event\n\n04/25/26 11:00 AM PST\n - 04/25/26 02:00 PM PST\Description:\nHealthy Kids of Nevada — Community Launch Event\nEmpowering Healthier Futures for Nevada's Children\n\nJoin us for the official Community Launch of Healthy Kids of Nevada Foundation — a movement dedicated to promoting wellness, nutrition, and active lifestyles for children and families across the state.\n\nThis special event brings together community leaders, educators, parents, and local organizations to celebrate our mission and introduce the programs designed to create lasting, positive change in the lives of Nevada's youth.\n\nWhat to Expect:\n\nAn introduction to Healthy Kids of Nevada Foundation's mission and vision\n\nOverview of upcoming programs focused on youth wellness, nutrition, and empowerment\n\nNetworking with community partners, educators, and advocates\n\nOpportunities to get involved as a volunteer, sponsor, or program partner\Details:\nFree Family Event. \nVolunteers Still Needed\Location:\nKids Are Us Academy\n2760 S. Jones Blvd.\nLas Vegas, NV 890146
X-ALT-DESC;FMTTYPE=text/html:Healthy Kids of Nevada Community Launch Event<br /><br />04/25/26 11:00 AM PST - 04/25/26 02:00 PM PST<br />Description:<br />Healthy Kids of Nevada &mdash; Community Launch Event<br />
Empowering Healthier Futures for Nevada's Children<br />
<br />
Join us for the official Community Launch of Healthy Kids of Nevada Foundation &mdash; a movement dedicated to promoting wellness, nutrition, and active lifestyles for children and families across the state.<br />
<br />
This special event brings together community leaders, educators, parents, and local organizations to celebrate our mission and introduce the programs designed to create lasting, positive change in the lives of Nevada's youth.<br />
<br />
What to Expect:<br />
<br />
An introduction to Healthy Kids of Nevada Foundation's mission and vision<br />
<br />
Overview of upcoming programs focused on youth wellness, nutrition, and empowerment<br />
<br />
Networking with community partners, educators, and advocates<br />
<br />
Opportunities to get involved as a volunteer, sponsor, or program partner<br />Details:<br />Free Family Event.&nbsp;<br />
Volunteers Still Needed<br />Location:<br />Kids Are Us Academy<br />2760 S. Jones Blvd.<br />Las Vegas, NV 890146
PRIORITY:3
TRANSP:TRANSPARENT
BEGIN:VALARM
TRIGGER:-PT5M
ACTION:DISPLAY
DESCRIPTION:Reminder
END:VALARM
END:VEVENT
END:VCALENDAR
