BEGIN:VCALENDAR
VERSION:2.0
CALSCALE:GREGORIAN
METHOD:PUBLISH
PRODID://HEND//1428476
BEGIN:VEVENT
DTSTAMP:20260423T104108
VTIMEZONE:America/Los_Angeles
DTSTART:20260606T010000Z
DTEND:20260606T040000Z
UID:1428476
SUMMARY:Leadership Henderson Class of 2026 Graduation
LOCATION:DragonRidge Country Club , 552 S. Stephanie Street, Henderson, NV, 89012
DESCRIPTION:Leadership Henderson Class of 2026 Graduation\n\n06/05/26 06:00 PM PST\n - 06/05/26 09:00 PM PST\Description:\n \nJoin us in celebrating the graduation of the Leadership Henderson Class of 2026 at DragonRidge Country Club.\nCocktail hour begins at 6:00 p.m.with dinner and program beginning at 7:00 p.m.\n\nIndividual Ticket: $125\nTable of 8: $1,000\n\nMeal Details\n\nMixed Field of Greens\nCandied Walnuts, Diced Pears, Blue Cheese Crumbles & Champagne Vinaigrette\n\nEntree Selections:\n\nFrench Cut Chicken Breast\nGarlic Mash, Thumbelina Carrots\n\nPan Seared Ora King Salmon\nQuinoa Pilaf, Spinach and Tomato, Citrus Bur Blanc\n\nVegan - Chef's Choice\n\nIf you have special dietary needs, please email cmateyko@hendersonchamber.com.  \n \nThank you to Nevada State Bank for sponsoring this event!\n\Location:\nDragonRidge Country Club \n552 S. Stephanie Street\nHenderson, NV 89012
X-ALT-DESC;FMTTYPE=text/html:Leadership Henderson Class of 2026 Graduation<br /><br />06/05/26 06:00 PM PST - 06/05/26 09:00 PM PST<br />Description:<br />&nbsp;
<div style="text-align: center;"><span style="font-size:14px"><span style="font-family:arial,helvetica,sans-serif">Join us in celebrating the graduation of the Leadership Henderson Class of 2026&nbsp;at DragonRidge Country Club.<br />
Cocktail hour begins at 6:00 p.m.with dinner and program beginning at 7:00 p.m.</span></span></div>
<br />
<span style="font-size:14px"><span style="font-family:arial,helvetica,sans-serif"><strong>Individual Ticket: </strong>$125<br />
<strong>Table of 8:</strong> $1,000<br />
<br />
<u><strong>Meal Details</strong></u><br />
<br />
<strong>Mixed Field of Greens</strong><br />
<em>Candied Walnuts, Diced Pears, Blue Cheese Crumbles &amp;&nbsp;</em><em>Champagne Vinaigrette</em><br />
<br />
<strong>Entree Selections:</strong><br />
<br />
<strong>French Cut Chicken Breast</strong><br />
<em>Garlic Mash, Thumbelina Carrots</em><br />
<br />
<strong>Pan Seared Ora King Salmon</strong><br />
<em>Quinoa Pilaf, Spinach and Tomato, Citrus Bur Blanc</em><br />
<br />
<strong>Vegan - Chef's Choice</strong><br />
<br />
If you have special dietary needs, please email <a href="mailto:lbengtson@hendersonchamber.com">cmateyko@hendersonchamber.com</a>.&nbsp;&nbsp;</span></span><br />
&nbsp;
<div style="text-align: center;"><strong><span style="font-size:18px"><span style="font-family:arial,helvetica,sans-serif">Thank you to Nevada State Bank&nbsp;for sponsoring this event!</span></span></strong></div>
<br />Location:<br />DragonRidge Country Club <br />552 S. Stephanie Street<br />Henderson, NV 89012
PRIORITY:3
TRANSP:TRANSPARENT
BEGIN:VALARM
TRIGGER:-PT5M
ACTION:DISPLAY
DESCRIPTION:Reminder
END:VALARM
END:VEVENT
END:VCALENDAR
