BEGIN:VCALENDAR
VERSION:2.0
CALSCALE:GREGORIAN
METHOD:PUBLISH
PRODID://HEND//1428647
BEGIN:VEVENT
DTSTAMP:20260422T230431
VTIMEZONE:America/Los_Angeles
DTSTART:20260515T010000Z
DTEND:20260515T040000Z
UID:1428647
SUMMARY:Third Annual Nevada State University Community Awards 
LOCATION:Cool Down Room, F1 Grand Prix Plaza, 4400 Koval Lane, Las Vegas, NV, 89109
DESCRIPTION:Third Annual Nevada State University Community Awards \n\n05/14/26 06:00 PM PST\n - 05/14/26 09:00 PM PST\Description:\nJoin us as we celebrate breakthrough milestones and honor the extraordinary individuals, nonprofit organizations, and corporate partners who strengthen our Nevada State community.\n\nAt our third annual Nevada State University Community Awards Ceremony, we will proudly recognize recipients of the Community Partner, Visionary, Service, and President’s Medal Awards.\n\nExperience an unforgettable evening—Nevada State style—at this one-of-a-kind celebration hosted at the iconic F1 Grand Prix Plaza.\n\Details:\nSingle Ticket - $200\nTable of 8 - $1,600\n\Location:\nCool Down Room, F1 Grand Prix Plaza\n4400 Koval Lane\nLas Vegas, NV 89109
X-ALT-DESC;FMTTYPE=text/html:Third Annual Nevada State University Community Awards <br /><br />05/14/26 06:00 PM PST - 05/14/26 09:00 PM PST<br />Description:<br /><h2><span style="font-size:14px"><span style="font-family:georgia,serif">Join us as we celebrate breakthrough milestones and honor the extraordinary individuals, nonprofit organizations, and corporate partners who strengthen our Nevada State community.</span></span></h2>

<p><span style="font-size:14px"><span style="font-family:georgia,serif">At our third annual Nevada State University Community Awards Ceremony, we will proudly recognize recipients of the Community Partner, Visionary, Service, and President&rsquo;s Medal Awards.</span></span></p>

<p><span style="font-size:14px"><span style="font-family:georgia,serif">Experience an unforgettable evening&mdash;Nevada State style&mdash;at this one-of-a-kind celebration hosted at the iconic F1 Grand Prix Plaza.</span></span></p>
<br />Details:<br /><h4><span style="font-size:14px"><span style="font-family:georgia,serif">Single Ticket - $200<br />
Table of 8 - $1,600</span></span></h4>
<br />Location:<br />Cool Down Room, F1 Grand Prix Plaza<br />4400 Koval Lane<br />Las Vegas, NV 89109
PRIORITY:3
TRANSP:TRANSPARENT
BEGIN:VALARM
TRIGGER:-PT5M
ACTION:DISPLAY
DESCRIPTION:Reminder
END:VALARM
END:VEVENT
END:VCALENDAR
